BEGIN_USGS_DOQ_HEADER *
QUADRANGLE_NAME "GLAMIS" *
QUADRANT NE *
NORTH_LATITUDE 33 00 00.000 *
WEST_LONGITUDE -115 03 45.000 *
SOUTH_LATITUDE 32 56 15.000 *
EAST_LONGITUDE -115 00 00.000 *
PRODUCTION_DATE 1998 02 20 *
RASTER_ORDER LEFT_RIGHT/TOP_BOTTOM *
BAND_ORGANIZATION BIP *
BAND_CONTENT RED *
BAND_CONTENT GREEN *
BAND_CONTENT BLUE *
BITS_PER_PIXEL 8 *
SAMPLES_AND_LINES 6690 7650 *
HORIZONTAL_DATUM NAD83 *
HORIZONTAL_COORDINATE_SYSTEM UTM *
COORDINATE_ZONE 11 *
HORIZONTAL_UNITS METERS *
HORIZONTAL_RESOLUTION 1.000 *
SECONDARY_HORIZONTAL_DATUM NAD27 *
XY_ORIGIN 680610.000 3653370.000 *
SECONDARY_XY_ORIGIN 680689.222 3653175.627 *
NATION US *
STATE CA *
NW_QUAD_CORNER_XY 681007.320 3652954.170 *
NE_QUAD_CORNER_XY 686847.223 3653063.504 *
SE_QUAD_CORNER_XY 686978.924 3646133.048 *
SW_QUAD_CORNER_XY 681134.901 3646023.821 *
SECONDARY_NW_QUAD_XY 681011.289 3652763.070 *
SECONDARY_NE_QUAD_XY 686851.320 3652872.406 *
SECONDARY_SE_QUAD_XY 686983.017 3645942.164 *
SECONDARY_SW_QUAD_XY 681138.866 3645832.934 *
RMSE_XY 1.204 *
IMAGE_SOURCE "CIR FILM" *
SOURCE_IMAGE_ID "NAPP 9563 62" *
SOURCE_IMAGE_DATE 1996 06 15 *
SOURCE_DEM_DATE 1979 01 01 *
AGENCY "WESTERN MAPPING CENTER (WMC)" *
PRODUCER "ANALYTICAL SURVEYS INC." *
PRODUCTION_SYSTEM "ORBIT OR_RECTIFY V.5.2" *
STANDARD_VERSION 1996 12 *
METADATA_DATE 1998 02 20 *
DATA_FILE_SIZE 153555570 *
BYTE_COUNT 20070 * * * * * * * * * * * * * * * * * * * * * * * * * * * * * * * * * * * * * * * * * * * * * * * * * * * * * * * * * * * * * * * * * * * * * * * * * * * * * * * * * * * * * * * * * * * * * * * * * * * * * * * * * * * * * * * * * * * * * * * * * * * * * * * * * * * * * * * * * * * * * * * * * * * * * * * * * * * * * * * * * * * * * * * * * * * * * * * * * * * * * * * * * * * * * * * * * * * * * * * * * * * * * *
END_USGS_HEADER *
