BEGIN_USGS_DOQ_HEADER *
QUADRANGLE_NAME "GLAMIS NW" *
QUADRANT SW *
NORTH_LATITUDE 32 56 15.000 *
WEST_LONGITUDE -115 15 00.000 *
SOUTH_LATITUDE 32 52 30.000 *
EAST_LONGITUDE -115 11 15.000 *
PRODUCTION_DATE 1998 02 19 *
RASTER_ORDER LEFT_RIGHT/TOP_BOTTOM *
BAND_ORGANIZATION BIP *
BAND_CONTENT RED *
BAND_CONTENT GREEN *
BAND_CONTENT BLUE *
BITS_PER_PIXEL 8 *
SAMPLES_AND_LINES 6660 7680 *
HORIZONTAL_DATUM NAD83 *
HORIZONTAL_COORDINATE_SYSTEM UTM *
COORDINATE_ZONE 11 *
HORIZONTAL_UNITS METERS *
HORIZONTAL_RESOLUTION 1.000 *
SECONDARY_HORIZONTAL_DATUM NAD27 *
XY_ORIGIN 663210.000 3646140.000 *
SECONDARY_XY_ORIGIN 663289.533 3645945.555 *
NATION US *
STATE CA *
NW_QUAD_CORNER_XY 663603.351 3645716.968 *
NE_QUAD_CORNER_XY 669447.117 3645815.781 *
SE_QUAD_CORNER_XY 669566.256 3638885.698 *
SW_QUAD_CORNER_XY 663718.378 3638786.982 *
SECONDARY_NW_QUAD_XY 663606.932 3645526.075 *
SECONDARY_NE_QUAD_XY 669450.826 3645624.890 *
SECONDARY_SE_QUAD_XY 669569.961 3638695.021 *
SECONDARY_SW_QUAD_XY 663721.955 3638596.302 *
RMSE_XY 1.040 *
IMAGE_SOURCE "CIR FILM" *
SOURCE_IMAGE_ID "NAPP 9564 29" *
SOURCE_IMAGE_DATE 1996 06 16 *
SOURCE_DEM_DATE 1948 01 01 *
AGENCY "WESTERN MAPPING CENTER (WMC)" *
PRODUCER "ANALYTICAL SURVEYS INC." *
PRODUCTION_SYSTEM "ORBIT OR_RECTIFY V.5.2" *
STANDARD_VERSION 1996 12 *
METADATA_DATE 1998 02 20 *
DATA_FILE_SIZE 153466380 *
BYTE_COUNT 19980 * * * * * * * * * * * * * * * * * * * * * * * * * * * * * * * * * * * * * * * * * * * * * * * * * * * * * * * * * * * * * * * * * * * * * * * * * * * * * * * * * * * * * * * * * * * * * * * * * * * * * * * * * * * * * * * * * * * * * * * * * * * * * * * * * * * * * * * * * * * * * * * * * * * * * * * * * * * * * * * * * * * * * * * * * * * * * * * * * * * * * * * * * * * * * * * * * * * * * * * * * * * * *
END_USGS_HEADER *
