BEGIN_USGS_DOQ_HEADER *
QUADRANGLE_NAME "BRAWLEY" *
QUADRANT SW *
NORTH_LATITUDE 32 56 15.000 *
WEST_LONGITUDE -115 37 30.000 *
SOUTH_LATITUDE 32 52 30.000 *
EAST_LONGITUDE -115 33 45.000 *
PRODUCTION_DATE 1998 02 17 *
RASTER_ORDER LEFT_RIGHT/TOP_BOTTOM *
BAND_ORGANIZATION BIP *
BAND_CONTENT RED *
BAND_CONTENT GREEN *
BAND_CONTENT BLUE *
BITS_PER_PIXEL 8 *
SAMPLES_AND_LINES 6660 7650 *
HORIZONTAL_DATUM NAD83 *
HORIZONTAL_COORDINATE_SYSTEM UTM *
COORDINATE_ZONE 11 *
HORIZONTAL_UNITS METERS *
HORIZONTAL_RESOLUTION 1.000 *
SECONDARY_HORIZONTAL_DATUM NAD27 *
XY_ORIGIN 628140.000 3645600.000 *
SECONDARY_XY_ORIGIN 628220.307 3645404.601 *
NATION US *
STATE CA *
NW_QUAD_CORNER_XY 628542.340 3645196.959 *
NE_QUAD_CORNER_XY 634385.667 3645274.954 *
SE_QUAD_CORNER_XY 634480.138 3638345.401 *
SW_QUAD_CORNER_XY 628632.700 3638267.483 *
SECONDARY_NW_QUAD_XY 628545.153 3645006.054 *
SECONDARY_NE_QUAD_XY 634388.609 3645084.050 *
SECONDARY_SE_QUAD_XY 634483.076 3638154.712 *
SECONDARY_SW_QUAD_XY 628635.510 3638076.792 *
RMSE_XY 0.783 *
IMAGE_SOURCE "CIR FILM" *
SOURCE_IMAGE_ID "NAPP 9565 20" *
SOURCE_IMAGE_DATE 1996 06 16 *
SOURCE_DEM_DATE 1957 01 01 *
AGENCY "WESTERN MAPPING CENTER (WMC)" *
PRODUCER "ANALYTICAL SURVEYS INC." *
PRODUCTION_SYSTEM "ORBIT OR_RECTIFY V.5.2" *
STANDARD_VERSION 1996 12 *
METADATA_DATE 1998 02 18 *
DATA_FILE_SIZE 152866980 *
BYTE_COUNT 19980 * * * * * * * * * * * * * * * * * * * * * * * * * * * * * * * * * * * * * * * * * * * * * * * * * * * * * * * * * * * * * * * * * * * * * * * * * * * * * * * * * * * * * * * * * * * * * * * * * * * * * * * * * * * * * * * * * * * * * * * * * * * * * * * * * * * * * * * * * * * * * * * * * * * * * * * * * * * * * * * * * * * * * * * * * * * * * * * * * * * * * * * * * * * * * * * * * * * * * * * * * * * * *
END_USGS_HEADER *
