BEGIN_USGS_DOQ_HEADER *
QUADRANGLE_NAME "BRAWLEY NW" *
QUADRANT SW *
NORTH_LATITUDE 32 56 15.000 *
WEST_LONGITUDE -115 45 00.000 *
SOUTH_LATITUDE 32 52 30.000 *
EAST_LONGITUDE -115 41 15.000 *
PRODUCTION_DATE 1998 02 16 *
RASTER_ORDER LEFT_RIGHT/TOP_BOTTOM *
BAND_ORGANIZATION BIP *
BAND_CONTENT RED *
BAND_CONTENT GREEN *
BAND_CONTENT BLUE *
BITS_PER_PIXEL 8 *
SAMPLES_AND_LINES 6630 7650 *
HORIZONTAL_DATUM NAD83 *
HORIZONTAL_COORDINATE_SYSTEM UTM *
COORDINATE_ZONE 11 *
HORIZONTAL_UNITS METERS *
HORIZONTAL_RESOLUTION 1.000 *
SECONDARY_HORIZONTAL_DATUM NAD27 *
XY_ORIGIN 616470.000 3645450.000 *
SECONDARY_XY_ORIGIN 616550.589 3645254.218 *
NATION US *
STATE CA *
NW_QUAD_CORNER_XY 616855.870 3645051.374 *
NE_QUAD_CORNER_XY 622699.075 3645122.432 *
SE_QUAD_CORNER_XY 622785.326 3638193.030 *
SW_QUAD_CORNER_XY 616938.012 3638122.041 *
SECONDARY_NW_QUAD_XY 616858.428 3644860.466 *
SECONDARY_NE_QUAD_XY 622701.760 3644931.526 *
SECONDARY_SE_QUAD_XY 622788.008 3638002.337 *
SECONDARY_SW_QUAD_XY 616940.567 3637931.347 *
RMSE_XY 1.235 *
IMAGE_SOURCE "CIR FILM" *
SOURCE_IMAGE_ID "NAPP 9565 90" *
SOURCE_IMAGE_DATE 1996 06 16 *
SOURCE_DEM_DATE 1957 01 01 *
AGENCY "WESTERN MAPPING CENTER (WMC)" *
PRODUCER "ANALYTICAL SURVEYS INC." *
PRODUCTION_SYSTEM "ORBIT OR_RECTIFY V.5.2" *
STANDARD_VERSION 1996 12 *
METADATA_DATE 1998 02 16 *
DATA_FILE_SIZE 152178390 *
BYTE_COUNT 19890 * * * * * * * * * * * * * * * * * * * * * * * * * * * * * * * * * * * * * * * * * * * * * * * * * * * * * * * * * * * * * * * * * * * * * * * * * * * * * * * * * * * * * * * * * * * * * * * * * * * * * * * * * * * * * * * * * * * * * * * * * * * * * * * * * * * * * * * * * * * * * * * * * * * * * * * * * * * * * * * * * * * * * * * * * * * * * * * * * * * * * * * * * * * * * * * * * * * * * * * * * * * *
END_USGS_HEADER *
