BEGIN_USGS_DOQ_HEADER *
QUADRANGLE_NAME "SUPERSTITION MOUNTAIN" *
QUADRANT NE *
NORTH_LATITUDE 33 00 00.000 *
WEST_LONGITUDE -115 48 45.000 *
SOUTH_LATITUDE 32 56 15.000 *
EAST_LONGITUDE -115 45 00.000 *
PRODUCTION_DATE 1998 03 11 *
RASTER_ORDER LEFT_RIGHT/TOP_BOTTOM *
BAND_ORGANIZATION BIP *
BAND_CONTENT RED *
BAND_CONTENT GREEN *
BAND_CONTENT BLUE *
BITS_PER_PIXEL 8 *
SAMPLES_AND_LINES 6630 7620 *
HORIZONTAL_DATUM NAD83 *
HORIZONTAL_COORDINATE_SYSTEM UTM *
COORDINATE_ZONE 11 *
HORIZONTAL_UNITS METERS *
HORIZONTAL_RESOLUTION 1.000 *
SECONDARY_HORIZONTAL_DATUM NAD27 *
XY_ORIGIN 610530.000 3652290.000 *
SECONDARY_XY_ORIGIN 610610.521 3652094.130 *
NATION US *
STATE CA *
NW_QUAD_CORNER_XY 610934.559 3651913.117 *
NE_QUAD_CORNER_XY 616773.590 3651980.773 *
SE_QUAD_CORNER_XY 616855.870 3645051.374 *
SW_QUAD_CORNER_XY 611012.723 3644983.784 *
SECONDARY_NW_QUAD_XY 610936.991 3651721.994 *
SECONDARY_NE_QUAD_XY 616776.150 3651789.651 *
SECONDARY_SE_QUAD_XY 616858.428 3644860.466 *
SECONDARY_SW_QUAD_XY 611015.153 3644792.874 *
RMSE_XY 1.373 *
IMAGE_SOURCE "CIR FILM" *
SOURCE_IMAGE_ID "NAPP 9565 113" *
SOURCE_IMAGE_DATE 1996 06 16 *
SOURCE_DEM_DATE 1956 01 01 *
AGENCY "WESTERN MAPPING CENTER (WMC)" *
PRODUCER "ANALYTICAL SURVEYS INC." *
PRODUCTION_SYSTEM "ORBIT OR_RECTIFY V.5.2" *
STANDARD_VERSION 1996 12 *
METADATA_DATE 1998 03 12 *
DATA_FILE_SIZE 151581690 *
BYTE_COUNT 19890 * * * * * * * * * * * * * * * * * * * * * * * * * * * * * * * * * * * * * * * * * * * * * * * * * * * * * * * * * * * * * * * * * * * * * * * * * * * * * * * * * * * * * * * * * * * * * * * * * * * * * * * * * * * * * * * * * * * * * * * * * * * * * * * * * * * * * * * * * * * * * * * * * * * * * * * * * * * * * * * * * * * * * * * * * * * * * * * * * * * * * * * * * * * * * * * * * * * * * * * * * * * *
END_USGS_HEADER *
