BEGIN_USGS_DOQ_HEADER *
QUADRANGLE_NAME "JACUMBA OE S" *
QUADRANT NE *
NORTH_LATITUDE 32 37 30.000 *
WEST_LONGITUDE -116 11 15.000 *
SOUTH_LATITUDE 32 33 45.000 *
EAST_LONGITUDE -116 07 30.000 *
PRODUCTION_DATE 1998 03 08 *
RASTER_ORDER LEFT_RIGHT/TOP_BOTTOM *
BAND_ORGANIZATION BIP *
BAND_CONTENT RED *
BAND_CONTENT GREEN *
BAND_CONTENT BLUE *
BITS_PER_PIXEL 8 *
SAMPLES_AND_LINES 6630 7620 *
HORIZONTAL_DATUM NAD83 *
HORIZONTAL_COORDINATE_SYSTEM UTM *
COORDINATE_ZONE 11 *
HORIZONTAL_UNITS METERS *
HORIZONTAL_RESOLUTION 1.000 *
SECONDARY_HORIZONTAL_DATUM NAD27 *
XY_ORIGIN 575820.000 3610380.000 *
SECONDARY_XY_ORIGIN 575901.452 3610183.859 *
NATION US *
NATION MX *
STATE CA *
NW_QUAD_CORNER_XY 576220.895 3610007.038 *
NE_QUAD_CORNER_XY 582084.226 3610053.593 *
SE_QUAD_CORNER_XY 582141.229 3603124.946 *
SW_QUAD_CORNER_XY 576273.825 3603078.438 *
SECONDARY_NW_QUAD_XY 576222.549 3609817.201 *
SECONDARY_NE_QUAD_XY 582086.007 3609863.757 *
SECONDARY_SE_QUAD_XY 582143.009 3602935.328 *
SECONDARY_SW_QUAD_XY 576275.478 3602888.819 *
RMSE_XY 1.289 *
IMAGE_SOURCE "CIR FILM" *
SOURCE_IMAGE_ID "NAPP 9566 6" *
SOURCE_IMAGE_DATE 1996 06 16 *
SOURCE_DEM_DATE 1975 01 01 *
AGENCY "WESTERN MAPPING CENTER (WMC)" *
PRODUCER "ANALYTICAL SURVEYS INC." *
PRODUCTION_SYSTEM "ORBIT OR_RECTIFY V.5.2" *
STANDARD_VERSION 1996 12 *
METADATA_DATE 1998 04 06 *
DATA_FILE_SIZE 151581690 *
BYTE_COUNT 19890 * * * * * * * * * * * * * * * * * * * * * * * * * * * * * * * * * * * * * * * * * * * * * * * * * * * * * * * * * * * * * * * * * * * * * * * * * * * * * * * * * * * * * * * * * * * * * * * * * * * * * * * * * * * * * * * * * * * * * * * * * * * * * * * * * * * * * * * * * * * * * * * * * * * * * * * * * * * * * * * * * * * * * * * * * * * * * * * * * * * * * * * * * * * * * * * * * * * * * * * * * * *
END_USGS_HEADER *
