BEGIN_USGS_DOQ_HEADER *
QUADRANGLE_NAME "POTRERO" *
QUADRANT NW *
NORTH_LATITUDE 32 37 30.000 *
WEST_LONGITUDE -116 37 30.000 *
SOUTH_LATITUDE 32 33 45.000 *
EAST_LONGITUDE -116 33 45.000 *
PRODUCTION_DATE 1998 03 05 *
RASTER_ORDER LEFT_RIGHT/TOP_BOTTOM *
BAND_ORGANIZATION BIP *
BAND_CONTENT RED *
BAND_CONTENT GREEN *
BAND_CONTENT BLUE *
BITS_PER_PIXEL 8 *
SAMPLES_AND_LINES 6600 7590 *
HORIZONTAL_DATUM NAD83 *
HORIZONTAL_COORDINATE_SYSTEM UTM *
COORDINATE_ZONE 11 *
HORIZONTAL_UNITS METERS *
HORIZONTAL_RESOLUTION 1.000 *
SECONDARY_HORIZONTAL_DATUM NAD27 *
XY_ORIGIN 534780.000 3610110.000 *
SECONDARY_XY_ORIGIN 534860.631 3609913.893 *
NATION US *
NATION MX *
STATE CA *
NW_QUAD_CORNER_XY 535178.483 3609777.723 *
NE_QUAD_CORNER_XY 541041.608 3609800.136 *
SE_QUAD_CORNER_XY 541070.107 3602871.745 *
SW_QUAD_CORNER_XY 535202.910 3602849.354 *
SECONDARY_NW_QUAD_XY 535179.246 3609587.881 *
SECONDARY_NE_QUAD_XY 541042.499 3609610.295 *
SECONDARY_SE_QUAD_XY 541070.997 3602682.122 *
SECONDARY_SW_QUAD_XY 535203.673 3602659.730 *
RMSE_XY 2.897 *
IMAGE_SOURCE "CIR FILM" *
SOURCE_IMAGE_ID "NAPP 9554 105" *
SOURCE_IMAGE_DATE 1996 06 04 *
SOURCE_DEM_DATE 1954 01 01 *
AGENCY "WESTERN MAPPING CENTER (WMC)" *
PRODUCER "ANALYTICAL SURVEYS INC." *
PRODUCTION_SYSTEM "ORBIT OR_RECTIFY V.5.2" *
STANDARD_VERSION 1996 12 *
METADATA_DATE 1998 04 14 *
DATA_FILE_SIZE 150301800 *
BYTE_COUNT 19800 * * * * * * * * * * * * * * * * * * * * * * * * * * * * * * * * * * * * * * * * * * * * * * * * * * * * * * * * * * * * * * * * * * * * * * * * * * * * * * * * * * * * * * * * * * * * * * * * * * * * * * * * * * * * * * * * * * * * * * * * * * * * * * * * * * * * * * * * * * * * * * * * * * * * * * * * * * * * * * * * * * * * * * * * * * * * * * * * * * * * * * * * * * * * * * * * * * * * * * * * * *
END_USGS_HEADER *
