BEGIN_USGS_DOQ_HEADER *
QUADRANGLE_NAME "TECATE" *
QUADRANT NE *
NORTH_LATITUDE 32 37 30.000 *
WEST_LONGITUDE -116 41 15.000 *
SOUTH_LATITUDE 32 33 45.000 *
EAST_LONGITUDE -116 37 30.000 *
PRODUCTION_DATE 1998 03 05 *
RASTER_ORDER LEFT_RIGHT/TOP_BOTTOM *
BAND_ORGANIZATION BIP *
BAND_CONTENT RED *
BAND_CONTENT GREEN *
BAND_CONTENT BLUE *
BITS_PER_PIXEL 8 *
SAMPLES_AND_LINES 6600 7590 *
HORIZONTAL_DATUM NAD83 *
HORIZONTAL_COORDINATE_SYSTEM UTM *
COORDINATE_ZONE 11 *
HORIZONTAL_UNITS METERS *
HORIZONTAL_RESOLUTION 1.000 *
SECONDARY_HORIZONTAL_DATUM NAD27 *
XY_ORIGIN 528930.000 3610110.000 *
SECONDARY_XY_ORIGIN 529010.575 3609913.849 *
NATION US *
NATION MX *
STATE CA *
NW_QUAD_CORNER_XY 529315.376 3609758.758 *
NE_QUAD_CORNER_XY 535178.483 3609777.723 *
SE_QUAD_CORNER_XY 535202.910 3602849.354 *
SW_QUAD_CORNER_XY 529335.731 3602830.409 *
SECONDARY_NW_QUAD_XY 529316.012 3609568.915 *
SECONDARY_NE_QUAD_XY 535179.246 3609587.881 *
SECONDARY_SE_QUAD_XY 535203.673 3602659.730 *
SECONDARY_SW_QUAD_XY 529336.367 3602640.784 *
RMSE_XY 2.305 *
IMAGE_SOURCE "CIR FILM" *
SOURCE_IMAGE_ID "NAPP 9553 212" *
SOURCE_IMAGE_DATE 1996 06 04 *
SOURCE_DEM_DATE 1954 01 01 *
AGENCY "WESTERN MAPPING CENTER (WMC)" *
PRODUCER "ANALYTICAL SURVEYS INC." *
PRODUCTION_SYSTEM "ORBIT OR_RECTIFY V.5.2" *
STANDARD_VERSION 1996 12 *
METADATA_DATE 1998 04 14 *
DATA_FILE_SIZE 150301800 *
BYTE_COUNT 19800 * * * * * * * * * * * * * * * * * * * * * * * * * * * * * * * * * * * * * * * * * * * * * * * * * * * * * * * * * * * * * * * * * * * * * * * * * * * * * * * * * * * * * * * * * * * * * * * * * * * * * * * * * * * * * * * * * * * * * * * * * * * * * * * * * * * * * * * * * * * * * * * * * * * * * * * * * * * * * * * * * * * * * * * * * * * * * * * * * * * * * * * * * * * * * * * * * * * * * * * * * *
END_USGS_HEADER *
