BEGIN_USGS_DOQ_HEADER *
QUADRANGLE_NAME "TECATE" *
QUADRANT NW *
NORTH_LATITUDE 32 37 30.000 *
WEST_LONGITUDE -116 45 00.000 *
SOUTH_LATITUDE 32 33 45.000 *
EAST_LONGITUDE -116 41 15.000 *
PRODUCTION_DATE 1998 03 05 *
RASTER_ORDER LEFT_RIGHT/TOP_BOTTOM *
BAND_ORGANIZATION BIP *
BAND_CONTENT RED *
BAND_CONTENT GREEN *
BAND_CONTENT BLUE *
BITS_PER_PIXEL 8 *
SAMPLES_AND_LINES 6600 7590 *
HORIZONTAL_DATUM NAD83 *
HORIZONTAL_COORDINATE_SYSTEM UTM *
COORDINATE_ZONE 11 *
HORIZONTAL_UNITS METERS *
HORIZONTAL_RESOLUTION 1.000 *
SECONDARY_HORIZONTAL_DATUM NAD27 *
XY_ORIGIN 523050.000 3610080.000 *
SECONDARY_XY_ORIGIN 523130.520 3609883.805 *
NATION US *
NATION MX *
STATE CA *
NW_QUAD_CORNER_XY 523452.283 3609743.241 *
NE_QUAD_CORNER_XY 529315.376 3609758.758 *
SE_QUAD_CORNER_XY 529335.731 3602830.409 *
SW_QUAD_CORNER_XY 523468.567 3602814.907 *
SECONDARY_NW_QUAD_XY 523452.792 3609553.398 *
SECONDARY_NE_QUAD_XY 529316.012 3609568.915 *
SECONDARY_SE_QUAD_XY 529336.367 3602640.784 *
SECONDARY_SW_QUAD_XY 523469.076 3602625.283 *
RMSE_XY 3.042 *
IMAGE_SOURCE "CIR FILM" *
SOURCE_IMAGE_ID "NAPP 9554 11" *
SOURCE_IMAGE_DATE 1996 06 04 *
SOURCE_IMAGE_ID "NAPP 9554 10" *
SOURCE_IMAGE_DATE 1996 06 04 *
SOURCE_DEM_DATE 1954 01 01 *
AGENCY "WESTERN MAPPING CENTER (WMC)" *
PRODUCER "ANALYTICAL SURVEYS INC." *
PRODUCTION_SYSTEM "ORBIT OR_RECTIFY V.5.2" *
STANDARD_VERSION 1996 12 *
METADATA_DATE 1998 04 14 *
DATA_FILE_SIZE 150301800 *
BYTE_COUNT 19800 * * * * * * * * * * * * * * * * * * * * * * * * * * * * * * * * * * * * * * * * * * * * * * * * * * * * * * * * * * * * * * * * * * * * * * * * * * * * * * * * * * * * * * * * * * * * * * * * * * * * * * * * * * * * * * * * * * * * * * * * * * * * * * * * * * * * * * * * * * * * * * * * * * * * * * * * * * * * * * * * * * * * * * * * * * * * * * * * * * * * * * * * * * * * * * * * * * * * * * * *
END_USGS_HEADER *
