BEGIN_USGS_DOQ_HEADER *
QUADRANGLE_NAME "OTAY MOUNTAIN" *
QUADRANT NW *
NORTH_LATITUDE 32 37 30.000 *
WEST_LONGITUDE -116 52 30.000 *
SOUTH_LATITUDE 32 33 45.000 *
EAST_LONGITUDE -116 48 45.000 *
PRODUCTION_DATE 1998 04 14 *
RASTER_ORDER LEFT_RIGHT/TOP_BOTTOM *
BAND_ORGANIZATION BIP *
BAND_CONTENT RED *
BAND_CONTENT GREEN *
BAND_CONTENT BLUE *
BITS_PER_PIXEL 8 *
SAMPLES_AND_LINES 6600 7560 *
HORIZONTAL_DATUM NAD83 *
HORIZONTAL_COORDINATE_SYSTEM UTM *
COORDINATE_ZONE 11 *
HORIZONTAL_UNITS METERS *
HORIZONTAL_RESOLUTION 1.000 *
SECONDARY_HORIZONTAL_DATUM NAD27 *
XY_ORIGIN 511320.000 3610050.000 *
SECONDARY_XY_ORIGIN 511400.526 3609853.925 *
NATION US *
STATE CA *
NW_QUAD_CORNER_XY 511726.130 3609722.552 *
NE_QUAD_CORNER_XY 517589.202 3609731.173 *
SE_QUAD_CORNER_XY 517601.415 3602802.851 *
SW_QUAD_CORNER_XY 511734.272 3602794.240 *
SECONDARY_NW_QUAD_XY 511726.384 3609532.709 *
SECONDARY_NE_QUAD_XY 517589.583 3609541.330 *
SECONDARY_SE_QUAD_XY 517601.796 3602613.226 *
SECONDARY_SW_QUAD_XY 511734.526 3602604.614 *
RMSE_XY 2.751 *
IMAGE_SOURCE "CIR FILM" *
SOURCE_IMAGE_ID "NAPP 9554 125" *
SOURCE_IMAGE_DATE 1996 06 04 *
SOURCE_IMAGE_ID "NAPP 9554 123" *
SOURCE_IMAGE_DATE 1996 06 04 *
SOURCE_IMAGE_ID "NAPP 9554 127" *
SOURCE_IMAGE_DATE 1996 06 04 *
SOURCE_IMAGE_ID "NAPP 9554 218" *
SOURCE_IMAGE_DATE 1996 06 04 *
SOURCE_DEM_DATE 1997 01 01 *
AGENCY "WESTERN MAPPING CENTER (WMC)" *
PRODUCER "ANALYTICAL SURVEYS INC." *
PRODUCTION_SYSTEM "ORBIT OR_RECTIFY V.5.2" *
STANDARD_VERSION 1996 12 *
METADATA_DATE 1998 04 14 *
DATA_FILE_SIZE 149707800 *
BYTE_COUNT 19800 * * * * * * * * * * * * * * * * * * * * * * * * * * * * * * * * * * * * * * * * * * * * * * * * * * * * * * * * * * * * * * * * * * * * * * * * * * * * * * * * * * * * * * * * * * * * * * * * * * * * * * * * * * * * * * * * * * * * * * * * * * * * * * * * * * * * * * * * * * * * * * * * * * * * * * * * * * * * * * * * * * * * * * * * * * * * * * * * * * * * * * * * * * * * * * * * * * * * *
END_USGS_HEADER *
