BEGIN_USGS_DOQ_HEADER *
QUADRANGLE_NAME "OTAY MESA" *
QUADRANT NW *
NORTH_LATITUDE 32 37 30.000 *
WEST_LONGITUDE -117 00 00.000 *
SOUTH_LATITUDE 32 33 45.000 *
EAST_LONGITUDE -116 56 15.000 *
PRODUCTION_DATE 1998 03 05 *
RASTER_ORDER LEFT_RIGHT/TOP_BOTTOM *
BAND_ORGANIZATION BIP *
BAND_CONTENT RED *
BAND_CONTENT GREEN *
BAND_CONTENT BLUE *
BITS_PER_PIXEL 8 *
SAMPLES_AND_LINES 6600 7590 *
HORIZONTAL_DATUM NAD83 *
HORIZONTAL_COORDINATE_SYSTEM UTM *
COORDINATE_ZONE 11 *
HORIZONTAL_UNITS METERS *
HORIZONTAL_RESOLUTION 1.000 *
SECONDARY_HORIZONTAL_DATUM NAD27 *
XY_ORIGIN 499590.000 3610050.000 *
SECONDARY_XY_ORIGIN 499670.530 3609854.046 *
NATION US *
STATE CA *
NW_QUAD_CORNER_XY 500000.000 3609715.656 *
NE_QUAD_CORNER_XY 505863.063 3609717.380 *
SE_QUAD_CORNER_XY 505867.134 3602789.073 *
SW_QUAD_CORNER_XY 500000.000 3602787.350 *
SECONDARY_NW_QUAD_XY 500000.000 3609525.813 *
SECONDARY_NE_QUAD_XY 505863.191 3609527.537 *
SECONDARY_SE_QUAD_XY 505867.262 3602599.447 *
SECONDARY_SW_QUAD_XY 500000.000 3602597.725 *
RMSE_XY 3.862 *
IMAGE_SOURCE "CIR FILM" *
SOURCE_IMAGE_ID "NAPP 10187 72" *
SOURCE_IMAGE_DATE 1996 09 30 *
SOURCE_IMAGE_ID "NAPP 10187 70" *
SOURCE_IMAGE_DATE 1996 09 30 *
SOURCE_DEM_DATE 1949 01 01 *
AGENCY "WESTERN MAPPING CENTER (WMC)" *
PRODUCER "ANALYTICAL SURVEYS INC." *
PRODUCTION_SYSTEM "ORBIT OR_RECTIFY V.5.2" *
STANDARD_VERSION 1996 12 *
METADATA_DATE 1998 04 14 *
DATA_FILE_SIZE 150301800 *
BYTE_COUNT 19800 * * * * * * * * * * * * * * * * * * * * * * * * * * * * * * * * * * * * * * * * * * * * * * * * * * * * * * * * * * * * * * * * * * * * * * * * * * * * * * * * * * * * * * * * * * * * * * * * * * * * * * * * * * * * * * * * * * * * * * * * * * * * * * * * * * * * * * * * * * * * * * * * * * * * * * * * * * * * * * * * * * * * * * * * * * * * * * * * * * * * * * * * * * * * * * * * * * * * * * * * *
END_USGS_HEADER *
