BEGIN_USGS_DOQ_HEADER *
QUADRANGLE_NAME "OTAY MESA" *
QUADRANT SE *
NORTH_LATITUDE 32 33 45.000 *
WEST_LONGITUDE -116 56 15.000 *
SOUTH_LATITUDE 32 30 00.000 *
EAST_LONGITUDE -116 52 30.000 *
PRODUCTION_DATE 1998 03 05 *
RASTER_ORDER LEFT_RIGHT/TOP_BOTTOM *
BAND_ORGANIZATION BIP *
BAND_CONTENT RED *
BAND_CONTENT GREEN *
BAND_CONTENT BLUE *
BITS_PER_PIXEL 8 *
SAMPLES_AND_LINES 6600 7560 *
HORIZONTAL_DATUM NAD83 *
HORIZONTAL_COORDINATE_SYSTEM UTM *
COORDINATE_ZONE 11 *
HORIZONTAL_UNITS METERS *
HORIZONTAL_RESOLUTION 1.000 *
SECONDARY_HORIZONTAL_DATUM NAD27 *
XY_ORIGIN 505470.000 3603120.000 *
SECONDARY_XY_ORIGIN 505550.495 3602924.004 *
NATION US *
NATION MX *
STATE CA *
NW_QUAD_CORNER_XY 505867.134 3602789.073 *
NE_QUAD_CORNER_XY 511734.272 3602794.240 *
SE_QUAD_CORNER_XY 511742.400 3595865.996 *
SW_QUAD_CORNER_XY 505871.199 3595860.834 *
SECONDARY_NW_QUAD_XY 505867.262 3602599.447 *
SECONDARY_NE_QUAD_XY 511734.526 3602604.614 *
SECONDARY_SE_QUAD_XY 511742.654 3595676.590 *
SECONDARY_SW_QUAD_XY 505871.326 3595671.428 *
RMSE_XY 3.981 *
IMAGE_SOURCE "CIR FILM" *
SOURCE_IMAGE_ID "NAPP 9554 220" *
SOURCE_IMAGE_DATE 1996 06 04 *
SOURCE_IMAGE_ID "NAPP 9554 218" *
SOURCE_IMAGE_DATE 1996 06 04 *
SOURCE_DEM_DATE 1949 01 01 *
AGENCY "WESTERN MAPPING CENTER (WMC)" *
PRODUCER "ANALYTICAL SURVEYS INC." *
PRODUCTION_SYSTEM "ORBIT OR_RECTIFY V.5.2" *
STANDARD_VERSION 1996 12 *
METADATA_DATE 1998 04 14 *
DATA_FILE_SIZE 149707800 *
BYTE_COUNT 19800 * * * * * * * * * * * * * * * * * * * * * * * * * * * * * * * * * * * * * * * * * * * * * * * * * * * * * * * * * * * * * * * * * * * * * * * * * * * * * * * * * * * * * * * * * * * * * * * * * * * * * * * * * * * * * * * * * * * * * * * * * * * * * * * * * * * * * * * * * * * * * * * * * * * * * * * * * * * * * * * * * * * * * * * * * * * * * * * * * * * * * * * * * * * * * * * * * * * * * * * *
END_USGS_HEADER *
