BEGIN_USGS_DOQ_HEADER *
QUADRANGLE_NAME "IN-KO-PAH GORGE" *
QUADRANT NE *
NORTH_LATITUDE 32 45 00.000 *
WEST_LONGITUDE -116 03 45.000 *
SOUTH_LATITUDE 32 41 15.000 *
EAST_LONGITUDE -116 00 00.000 *
PRODUCTION_DATE 1998 03 11 *
RASTER_ORDER LEFT_RIGHT/TOP_BOTTOM *
BAND_ORGANIZATION BIP *
BAND_CONTENT RED *
BAND_CONTENT GREEN *
BAND_CONTENT BLUE *
BITS_PER_PIXEL 8 *
SAMPLES_AND_LINES 6630 7620 *
HORIZONTAL_DATUM NAD83 *
HORIZONTAL_COORDINATE_SYSTEM UTM *
COORDINATE_ZONE 11 *
HORIZONTAL_UNITS METERS *
HORIZONTAL_RESOLUTION 1.000 *
SECONDARY_HORIZONTAL_DATUM NAD27 *
XY_ORIGIN 587430.000 3624330.000 *
SECONDARY_XY_ORIGIN 587511.422 3624133.878 *
NATION US *
STATE CA *
NW_QUAD_CORNER_XY 587825.133 3623961.196 *
NE_QUAD_CORNER_XY 593680.382 3624014.758 *
SE_QUAD_CORNER_XY 593745.755 3617085.871 *
SW_QUAD_CORNER_XY 587886.418 3617032.363 *
SECONDARY_NW_QUAD_XY 587827.045 3623770.927 *
SECONDARY_NE_QUAD_XY 593682.422 3623824.489 *
SECONDARY_SE_QUAD_XY 593747.792 3616895.820 *
SECONDARY_SW_QUAD_XY 587888.328 3616842.311 *
RMSE_XY 2.217 *
IMAGE_SOURCE "CIR FILM" *
SOURCE_IMAGE_ID "NAPP 9566 82" *
SOURCE_IMAGE_DATE 1996 06 16 *
SOURCE_IMAGE_ID "NAPP 9566 71" *
SOURCE_IMAGE_DATE 1996 06 16 *
SOURCE_DEM_DATE 1975 01 01 *
AGENCY "WESTERN MAPPING CENTER (WMC)" *
PRODUCER "ANALYTICAL SURVEYS INC." *
PRODUCTION_SYSTEM "ORBIT OR_RECTIFY V.5.2" *
STANDARD_VERSION 1996 12 *
METADATA_DATE 1998 04 06 *
DATA_FILE_SIZE 151581690 *
BYTE_COUNT 19890 * * * * * * * * * * * * * * * * * * * * * * * * * * * * * * * * * * * * * * * * * * * * * * * * * * * * * * * * * * * * * * * * * * * * * * * * * * * * * * * * * * * * * * * * * * * * * * * * * * * * * * * * * * * * * * * * * * * * * * * * * * * * * * * * * * * * * * * * * * * * * * * * * * * * * * * * * * * * * * * * * * * * * * * * * * * * * * * * * * * * * * * * * * * * * * * * * * * * * * * * * *
END_USGS_HEADER *
