BEGIN_USGS_DOQ_HEADER *
QUADRANGLE_NAME "IN-KO-PAH GORGE" *
QUADRANT SW *
NORTH_LATITUDE 32 41 15.000 *
WEST_LONGITUDE -116 07 30.000 *
SOUTH_LATITUDE 32 37 30.000 *
EAST_LONGITUDE -116 03 45.000 *
PRODUCTION_DATE 1998 03 11 *
RASTER_ORDER LEFT_RIGHT/TOP_BOTTOM *
BAND_ORGANIZATION BIP *
BAND_CONTENT RED *
BAND_CONTENT GREEN *
BAND_CONTENT BLUE *
BITS_PER_PIXEL 8 *
SAMPLES_AND_LINES 6630 7590 *
HORIZONTAL_DATUM NAD83 *
HORIZONTAL_COORDINATE_SYSTEM UTM *
COORDINATE_ZONE 11 *
HORIZONTAL_UNITS METERS *
HORIZONTAL_RESOLUTION 1.000 *
SECONDARY_HORIZONTAL_DATUM NAD27 *
XY_ORIGIN 581640.000 3617340.000 *
SECONDARY_XY_ORIGIN 581721.441 3617143.889 *
NATION US *
STATE CA *
NW_QUAD_CORNER_XY 582027.125 3616982.308 *
NE_QUAD_CORNER_XY 587886.418 3617032.363 *
SE_QUAD_CORNER_XY 587947.599 3610103.598 *
SW_QUAD_CORNER_XY 582084.226 3610053.593 *
SECONDARY_NW_QUAD_XY 582028.908 3616792.255 *
SECONDARY_NE_QUAD_XY 587888.328 3616842.311 *
SECONDARY_SE_QUAD_XY 587949.507 3609913.763 *
SECONDARY_SW_QUAD_XY 582086.007 3609863.757 *
RMSE_XY 3.549 *
IMAGE_SOURCE "CIR FILM" *
SOURCE_IMAGE_ID "NAPP 9566 73" *
SOURCE_IMAGE_DATE 1996 06 16 *
SOURCE_IMAGE_ID "NAPP 9566 75" *
SOURCE_IMAGE_DATE 1996 06 16 *
SOURCE_DEM_DATE 1975 01 01 *
AGENCY "WESTERN MAPPING CENTER (WMC)" *
PRODUCER "ANALYTICAL SURVEYS INC." *
PRODUCTION_SYSTEM "ORBIT OR_RECTIFY V.5.2" *
STANDARD_VERSION 1996 12 *
METADATA_DATE 1998 03 11 *
DATA_FILE_SIZE 150984990 *
BYTE_COUNT 19890 * * * * * * * * * * * * * * * * * * * * * * * * * * * * * * * * * * * * * * * * * * * * * * * * * * * * * * * * * * * * * * * * * * * * * * * * * * * * * * * * * * * * * * * * * * * * * * * * * * * * * * * * * * * * * * * * * * * * * * * * * * * * * * * * * * * * * * * * * * * * * * * * * * * * * * * * * * * * * * * * * * * * * * * * * * * * * * * * * * * * * * * * * * * * * * * * * * * * * * * * * *
END_USGS_HEADER *
