BEGIN_USGS_DOQ_HEADER *
QUADRANGLE_NAME "JACUMBA" *
QUADRANT NE *
NORTH_LATITUDE 32 45 00.000 *
WEST_LONGITUDE -116 11 15.000 *
SOUTH_LATITUDE 32 41 15.000 *
EAST_LONGITUDE -116 07 30.000 *
PRODUCTION_DATE 1998 03 10 *
RASTER_ORDER LEFT_RIGHT/TOP_BOTTOM *
BAND_ORGANIZATION BIP *
BAND_CONTENT RED *
BAND_CONTENT GREEN *
BAND_CONTENT BLUE *
BITS_PER_PIXEL 8 *
SAMPLES_AND_LINES 6600 7620 *
HORIZONTAL_DATUM NAD83 *
HORIZONTAL_COORDINATE_SYSTEM UTM *
COORDINATE_ZONE 11 *
HORIZONTAL_UNITS METERS *
HORIZONTAL_RESOLUTION 1.000 *
SECONDARY_HORIZONTAL_DATUM NAD27 *
XY_ORIGIN 575730.000 3624240.000 *
SECONDARY_XY_ORIGIN 575811.378 3624043.958 *
NATION US *
STATE CA *
NW_QUAD_CORNER_XY 576114.762 3623864.442 *
NE_QUAD_CORNER_XY 581969.927 3623911.091 *
SE_QUAD_CORNER_XY 582027.125 3616982.308 *
SW_QUAD_CORNER_XY 576167.874 3616935.706 *
SECONDARY_NW_QUAD_XY 576116.419 3623674.171 *
SECONDARY_NE_QUAD_XY 581971.712 3623720.821 *
SECONDARY_SE_QUAD_XY 582028.908 3616792.255 *
SECONDARY_SW_QUAD_XY 576169.529 3616745.652 *
RMSE_XY 2.312 *
IMAGE_SOURCE "CIR FILM" *
SOURCE_IMAGE_ID "NAPP 9566 10" *
SOURCE_IMAGE_DATE 1996 06 16 *
SOURCE_IMAGE_ID "NAPP 9566 08" *
SOURCE_IMAGE_DATE 1996 06 16 *
SOURCE_DEM_DATE 1975 01 01 *
AGENCY "WESTERN MAPPING CENTER (WMC)" *
PRODUCER "ANALYTICAL SURVEYS INC." *
PRODUCTION_SYSTEM "ORBIT OR_RECTIFY V.5.2" *
STANDARD_VERSION 1996 12 *
METADATA_DATE 1998 03 10 *
DATA_FILE_SIZE 150895800 *
BYTE_COUNT 19800 * * * * * * * * * * * * * * * * * * * * * * * * * * * * * * * * * * * * * * * * * * * * * * * * * * * * * * * * * * * * * * * * * * * * * * * * * * * * * * * * * * * * * * * * * * * * * * * * * * * * * * * * * * * * * * * * * * * * * * * * * * * * * * * * * * * * * * * * * * * * * * * * * * * * * * * * * * * * * * * * * * * * * * * * * * * * * * * * * * * * * * * * * * * * * * * * * * * * * * * * *
END_USGS_HEADER *
