BEGIN_USGS_DOQ_HEADER *
QUADRANGLE_NAME "JACUMBA" *
QUADRANT NW *
NORTH_LATITUDE 32 45 00.000 *
WEST_LONGITUDE -116 15 00.000 *
SOUTH_LATITUDE 32 41 15.000 *
EAST_LONGITUDE -116 11 15.000 *
PRODUCTION_DATE 1998 03 10 *
RASTER_ORDER LEFT_RIGHT/TOP_BOTTOM *
BAND_ORGANIZATION BIP *
BAND_CONTENT RED *
BAND_CONTENT GREEN *
BAND_CONTENT BLUE *
BITS_PER_PIXEL 8 *
SAMPLES_AND_LINES 6630 7590 *
HORIZONTAL_DATUM NAD83 *
HORIZONTAL_COORDINATE_SYSTEM UTM *
COORDINATE_ZONE 11 *
HORIZONTAL_UNITS METERS *
HORIZONTAL_RESOLUTION 1.000 *
SECONDARY_HORIZONTAL_DATUM NAD27 *
XY_ORIGIN 569850.000 3624180.000 *
SECONDARY_XY_ORIGIN 569931.357 3623983.998 *
NATION US *
STATE CA *
NW_QUAD_CORNER_XY 570259.634 3623821.250 *
NE_QUAD_CORNER_XY 576114.762 3623864.442 *
SE_QUAD_CORNER_XY 576167.874 3616935.706 *
SW_QUAD_CORNER_XY 570308.660 3616892.557 *
SECONDARY_NW_QUAD_XY 570261.164 3623630.978 *
SECONDARY_NE_QUAD_XY 576116.419 3623674.171 *
SECONDARY_SE_QUAD_XY 576169.529 3616745.652 *
SECONDARY_SW_QUAD_XY 570310.188 3616702.501 *
RMSE_XY 2.347 *
IMAGE_SOURCE "CIR FILM" *
SOURCE_IMAGE_ID "NAPP 9571 66" *
SOURCE_IMAGE_DATE 1996 09 26 *
SOURCE_DEM_DATE 1975 01 01 *
AGENCY "WESTERN MAPPING CENTER (WMC)" *
PRODUCER "ANALYTICAL SURVEYS INC." *
PRODUCTION_SYSTEM "ORBIT OR_RECTIFY V.5.2" *
STANDARD_VERSION 1996 12 *
METADATA_DATE 1998 03 11 *
DATA_FILE_SIZE 150984990 *
BYTE_COUNT 19890 * * * * * * * * * * * * * * * * * * * * * * * * * * * * * * * * * * * * * * * * * * * * * * * * * * * * * * * * * * * * * * * * * * * * * * * * * * * * * * * * * * * * * * * * * * * * * * * * * * * * * * * * * * * * * * * * * * * * * * * * * * * * * * * * * * * * * * * * * * * * * * * * * * * * * * * * * * * * * * * * * * * * * * * * * * * * * * * * * * * * * * * * * * * * * * * * * * * * * * * * * * * *
END_USGS_HEADER *
