BEGIN_USGS_DOQ_HEADER *
QUADRANGLE_NAME "LIVE OAK SPRINGS" *
QUADRANT NE *
NORTH_LATITUDE 32 45 00.000 *
WEST_LONGITUDE -116 18 45.000 *
SOUTH_LATITUDE 32 41 15.000 *
EAST_LONGITUDE -116 15 00.000 *
PRODUCTION_DATE 1998 03 06 *
RASTER_ORDER LEFT_RIGHT/TOP_BOTTOM *
BAND_ORGANIZATION BIP *
BAND_CONTENT RED *
BAND_CONTENT GREEN *
BAND_CONTENT BLUE *
BITS_PER_PIXEL 8 *
SAMPLES_AND_LINES 6630 7620 *
HORIZONTAL_DATUM NAD83 *
HORIZONTAL_COORDINATE_SYSTEM UTM *
COORDINATE_ZONE 11 *
HORIZONTAL_UNITS METERS *
HORIZONTAL_RESOLUTION 1.000 *
SECONDARY_HORIZONTAL_DATUM NAD27 *
XY_ORIGIN 564000.000 3624150.000 *
SECONDARY_XY_ORIGIN 564081.181 3623954.061 *
NATION US *
STATE CA *
NW_QUAD_CORNER_XY 564404.542 3623781.513 *
NE_QUAD_CORNER_XY 570259.634 3623821.250 *
SE_QUAD_CORNER_XY 570308.660 3616892.557 *
SW_QUAD_CORNER_XY 564449.482 3616852.860 *
SECONDARY_NW_QUAD_XY 564405.944 3623591.240 *
SECONDARY_NE_QUAD_XY 570261.164 3623630.978 *
SECONDARY_SE_QUAD_XY 570310.188 3616702.501 *
SECONDARY_SW_QUAD_XY 564450.882 3616662.804 *
RMSE_XY 2.449 *
IMAGE_SOURCE "CIR FILM" *
SOURCE_IMAGE_ID "NAPP 9571 77" *
SOURCE_IMAGE_DATE 1996 09 26 *
SOURCE_DEM_DATE 1975 01 01 *
AGENCY "WESTERN MAPPING CENTER (WMC)" *
PRODUCER "ANALYTICAL SURVEYS INC." *
PRODUCTION_SYSTEM "ORBIT OR_RECTIFY V.5.2" *
STANDARD_VERSION 1996 12 *
METADATA_DATE 1998 03 08 *
DATA_FILE_SIZE 151581690 *
BYTE_COUNT 19890 * * * * * * * * * * * * * * * * * * * * * * * * * * * * * * * * * * * * * * * * * * * * * * * * * * * * * * * * * * * * * * * * * * * * * * * * * * * * * * * * * * * * * * * * * * * * * * * * * * * * * * * * * * * * * * * * * * * * * * * * * * * * * * * * * * * * * * * * * * * * * * * * * * * * * * * * * * * * * * * * * * * * * * * * * * * * * * * * * * * * * * * * * * * * * * * * * * * * * * * * * * * *
END_USGS_HEADER *
