BEGIN_USGS_DOQ_HEADER *
QUADRANGLE_NAME "LIVE OAK SPRINGS" *
QUADRANT SW *
NORTH_LATITUDE 32 41 15.000 *
WEST_LONGITUDE -116 22 30.000 *
SOUTH_LATITUDE 32 37 30.000 *
EAST_LONGITUDE -116 18 45.000 *
PRODUCTION_DATE 1998 03 06 *
RASTER_ORDER LEFT_RIGHT/TOP_BOTTOM *
BAND_ORGANIZATION BIP *
BAND_CONTENT RED *
BAND_CONTENT GREEN *
BAND_CONTENT BLUE *
BITS_PER_PIXEL 8 *
SAMPLES_AND_LINES 6600 7590 *
HORIZONTAL_DATUM NAD83 *
HORIZONTAL_COORDINATE_SYSTEM UTM *
COORDINATE_ZONE 11 *
HORIZONTAL_UNITS METERS *
HORIZONTAL_RESOLUTION 1.000 *
SECONDARY_HORIZONTAL_DATUM NAD27 *
XY_ORIGIN 558210.000 3617160.000 *
SECONDARY_XY_ORIGIN 558291.045 3616964.017 *
NATION US *
STATE CA *
NW_QUAD_CORNER_XY 558590.335 3616816.616 *
NE_QUAD_CORNER_XY 564449.482 3616852.860 *
SE_QUAD_CORNER_XY 564494.344 3609924.276 *
SW_QUAD_CORNER_XY 558631.119 3609888.068 *
SECONDARY_NW_QUAD_XY 558591.609 3616626.559 *
SECONDARY_NE_QUAD_XY 564450.882 3616662.804 *
SECONDARY_SE_QUAD_XY 564495.744 3609734.437 *
SECONDARY_SW_QUAD_XY 558632.391 3609698.228 *
RMSE_XY 2.014 *
IMAGE_SOURCE "CIR FILM" *
SOURCE_IMAGE_ID "NAPP 9572 48" *
SOURCE_IMAGE_DATE 1996 09 27 *
SOURCE_DEM_DATE 1975 01 01 *
AGENCY "WESTERN MAPPING CENTER (WMC)" *
PRODUCER "ANALYTICAL SURVEYS INC." *
PRODUCTION_SYSTEM "ORBIT OR_RECTIFY V.5.2" *
STANDARD_VERSION 1996 12 *
METADATA_DATE 1998 03 08 *
DATA_FILE_SIZE 150301800 *
BYTE_COUNT 19800 * * * * * * * * * * * * * * * * * * * * * * * * * * * * * * * * * * * * * * * * * * * * * * * * * * * * * * * * * * * * * * * * * * * * * * * * * * * * * * * * * * * * * * * * * * * * * * * * * * * * * * * * * * * * * * * * * * * * * * * * * * * * * * * * * * * * * * * * * * * * * * * * * * * * * * * * * * * * * * * * * * * * * * * * * * * * * * * * * * * * * * * * * * * * * * * * * * * * * * * * * * *
END_USGS_HEADER *
