BEGIN_USGS_DOQ_HEADER *
QUADRANGLE_NAME "CAMERON CORNERS" *
QUADRANT SE *
NORTH_LATITUDE 32 41 15.000 *
WEST_LONGITUDE -116 26 15.000 *
SOUTH_LATITUDE 32 37 30.000 *
EAST_LONGITUDE -116 22 30.000 *
PRODUCTION_DATE 1998 03 05 *
RASTER_ORDER LEFT_RIGHT/TOP_BOTTOM *
BAND_ORGANIZATION BIP *
BAND_CONTENT RED *
BAND_CONTENT GREEN *
BAND_CONTENT BLUE *
BITS_PER_PIXEL 8 *
SAMPLES_AND_LINES 6630 7590 *
HORIZONTAL_DATUM NAD83 *
HORIZONTAL_COORDINATE_SYSTEM UTM *
COORDINATE_ZONE 11 *
HORIZONTAL_UNITS METERS *
HORIZONTAL_RESOLUTION 1.000 *
SECONDARY_HORIZONTAL_DATUM NAD27 *
XY_ORIGIN 552330.000 3617130.000 *
SECONDARY_XY_ORIGIN 552410.875 3616934.061 *
NATION US *
STATE CA *
NW_QUAD_CORNER_XY 552731.218 3616783.824 *
NE_QUAD_CORNER_XY 558590.335 3616816.616 *
SE_QUAD_CORNER_XY 558631.119 3609888.068 *
SW_QUAD_CORNER_XY 552767.923 3609855.309 *
SECONDARY_NW_QUAD_XY 552732.364 3616593.766 *
SECONDARY_NE_QUAD_XY 558591.609 3616626.559 *
SECONDARY_SE_QUAD_XY 558632.391 3609698.228 *
SECONDARY_SW_QUAD_XY 552769.068 3609665.468 *
RMSE_XY 1.863 *
IMAGE_SOURCE "CIR FILM" *
SOURCE_IMAGE_ID "NAPP 9572 57" *
SOURCE_IMAGE_DATE 1996 09 27 *
SOURCE_DEM_DATE 1955 01 01 *
AGENCY "WESTERN MAPPING CENTER (WMC)" *
PRODUCER "ANALYTICAL SURVEYS INC." *
PRODUCTION_SYSTEM "ORBIT OR_RECTIFY V.5.2" *
STANDARD_VERSION 1996 12 *
METADATA_DATE 1998 03 06 *
DATA_FILE_SIZE 150984990 *
BYTE_COUNT 19890 * * * * * * * * * * * * * * * * * * * * * * * * * * * * * * * * * * * * * * * * * * * * * * * * * * * * * * * * * * * * * * * * * * * * * * * * * * * * * * * * * * * * * * * * * * * * * * * * * * * * * * * * * * * * * * * * * * * * * * * * * * * * * * * * * * * * * * * * * * * * * * * * * * * * * * * * * * * * * * * * * * * * * * * * * * * * * * * * * * * * * * * * * * * * * * * * * * * * * * * * * * * *
END_USGS_HEADER *
