BEGIN_USGS_DOQ_HEADER *
QUADRANGLE_NAME "CAMERON CORNERS" *
QUADRANT SW *
NORTH_LATITUDE 32 41 15.000 *
WEST_LONGITUDE -116 30 00.000 *
SOUTH_LATITUDE 32 37 30.000 *
EAST_LONGITUDE -116 26 15.000 *
PRODUCTION_DATE 1998 03 05 *
RASTER_ORDER LEFT_RIGHT/TOP_BOTTOM *
BAND_ORGANIZATION BIP *
BAND_CONTENT RED *
BAND_CONTENT GREEN *
BAND_CONTENT BLUE *
BITS_PER_PIXEL 8 *
SAMPLES_AND_LINES 6600 7590 *
HORIZONTAL_DATUM NAD83 *
HORIZONTAL_COORDINATE_SYSTEM UTM *
COORDINATE_ZONE 11 *
HORIZONTAL_UNITS METERS *
HORIZONTAL_RESOLUTION 1.000 *
SECONDARY_HORIZONTAL_DATUM NAD27 *
XY_ORIGIN 546480.000 3617100.000 *
SECONDARY_XY_ORIGIN 546560.706 3616904.106 *
NATION US *
STATE CA *
NW_QUAD_CORNER_XY 546872.128 3616754.484 *
NE_QUAD_CORNER_XY 552731.218 3616783.824 *
SE_QUAD_CORNER_XY 552767.923 3609855.309 *
SW_QUAD_CORNER_XY 546904.754 3609825.998 *
SECONDARY_NW_QUAD_XY 546873.146 3616564.426 *
SECONDARY_NE_QUAD_XY 552732.364 3616593.766 *
SECONDARY_SE_QUAD_XY 552769.068 3609665.468 *
SECONDARY_SW_QUAD_XY 546905.772 3609636.157 *
RMSE_XY 2.744 *
IMAGE_SOURCE "CIR FILM" *
SOURCE_IMAGE_ID "NAPP 9553 14" *
SOURCE_IMAGE_DATE 1996 06 04 *
SOURCE_DEM_DATE 1955 01 01 *
AGENCY "WESTERN MAPPING CENTER (WMC)" *
PRODUCER "ANALYTICAL SURVEYS INC." *
PRODUCTION_SYSTEM "ORBIT OR_RECTIFY V.5.2" *
STANDARD_VERSION 1996 12 *
METADATA_DATE 1998 03 06 *
DATA_FILE_SIZE 150301800 *
BYTE_COUNT 19800 * * * * * * * * * * * * * * * * * * * * * * * * * * * * * * * * * * * * * * * * * * * * * * * * * * * * * * * * * * * * * * * * * * * * * * * * * * * * * * * * * * * * * * * * * * * * * * * * * * * * * * * * * * * * * * * * * * * * * * * * * * * * * * * * * * * * * * * * * * * * * * * * * * * * * * * * * * * * * * * * * * * * * * * * * * * * * * * * * * * * * * * * * * * * * * * * * * * * * * * * * * *
END_USGS_HEADER *
