BEGIN_USGS_DOQ_HEADER *
QUADRANGLE_NAME "MORENA RESERVOIR" *
QUADRANT NE *
NORTH_LATITUDE 32 45 00.000 *
WEST_LONGITUDE -116 33 45.000 *
SOUTH_LATITUDE 32 41 15.000 *
EAST_LONGITUDE -116 30 00.000 *
PRODUCTION_DATE 1998 03 09 *
RASTER_ORDER LEFT_RIGHT/TOP_BOTTOM *
BAND_ORGANIZATION BIP *
BAND_CONTENT RED *
BAND_CONTENT GREEN *
BAND_CONTENT BLUE *
BITS_PER_PIXEL 8 *
SAMPLES_AND_LINES 6600 7590 *
HORIZONTAL_DATUM NAD83 *
HORIZONTAL_COORDINATE_SYSTEM UTM *
COORDINATE_ZONE 11 *
HORIZONTAL_UNITS METERS *
HORIZONTAL_RESOLUTION 1.000 *
SECONDARY_HORIZONTAL_DATUM NAD27 *
XY_ORIGIN 540600.000 3624000.000 *
SECONDARY_XY_ORIGIN 540680.641 3623804.139 *
NATION US *
STATE CA *
NW_QUAD_CORNER_XY 540984.464 3623657.125 *
NE_QUAD_CORNER_XY 546839.446 3623683.039 *
SE_QUAD_CORNER_XY 546872.128 3616754.484 *
SW_QUAD_CORNER_XY 541013.061 3616728.596 *
SECONDARY_NW_QUAD_XY 540985.356 3623466.849 *
SECONDARY_NE_QUAD_XY 546840.465 3623492.763 *
SECONDARY_SE_QUAD_XY 546873.146 3616564.426 *
SECONDARY_SW_QUAD_XY 541013.952 3616538.537 *
RMSE_XY 2.065 *
IMAGE_SOURCE "CIR FILM" *
SOURCE_IMAGE_ID "NAPP 9553 112" *
SOURCE_IMAGE_DATE 1996 06 04 *
SOURCE_IMAGE_ID "NAPP 9553 114" *
SOURCE_IMAGE_DATE 1996 06 04 *
SOURCE_DEM_DATE 1988 01 01 *
AGENCY "WESTERN MAPPING CENTER (WMC)" *
PRODUCER "ANALYTICAL SURVEYS INC." *
PRODUCTION_SYSTEM "ORBIT OR_RECTIFY V.5.2" *
STANDARD_VERSION 1996 12 *
METADATA_DATE 1998 03 09 *
DATA_FILE_SIZE 150301800 *
BYTE_COUNT 19800 * * * * * * * * * * * * * * * * * * * * * * * * * * * * * * * * * * * * * * * * * * * * * * * * * * * * * * * * * * * * * * * * * * * * * * * * * * * * * * * * * * * * * * * * * * * * * * * * * * * * * * * * * * * * * * * * * * * * * * * * * * * * * * * * * * * * * * * * * * * * * * * * * * * * * * * * * * * * * * * * * * * * * * * * * * * * * * * * * * * * * * * * * * * * * * * * * * * * * * * * *
END_USGS_HEADER *
