BEGIN_USGS_DOQ_HEADER *
QUADRANGLE_NAME "MORENA RESERVOIR" *
QUADRANT SW *
NORTH_LATITUDE 32 41 15.000 *
WEST_LONGITUDE -116 37 30.000 *
SOUTH_LATITUDE 32 37 30.000 *
EAST_LONGITUDE -116 33 45.000 *
PRODUCTION_DATE 1998 03 09 *
RASTER_ORDER LEFT_RIGHT/TOP_BOTTOM *
BAND_ORGANIZATION BIP *
BAND_CONTENT RED *
BAND_CONTENT GREEN *
BAND_CONTENT BLUE *
BITS_PER_PIXEL 8 *
SAMPLES_AND_LINES 6600 7590 *
HORIZONTAL_DATUM NAD83 *
HORIZONTAL_COORDINATE_SYSTEM UTM *
COORDINATE_ZONE 11 *
HORIZONTAL_UNITS METERS *
HORIZONTAL_RESOLUTION 1.000 *
SECONDARY_HORIZONTAL_DATUM NAD27 *
XY_ORIGIN 534750.000 3617040.000 *
SECONDARY_XY_ORIGIN 534830.617 3616843.960 *
NATION US *
STATE CA *
NW_QUAD_CORNER_XY 535154.014 3616706.160 *
NE_QUAD_CORNER_XY 541013.061 3616728.596 *
SE_QUAD_CORNER_XY 541041.608 3609800.136 *
SW_QUAD_CORNER_XY 535178.483 3609777.723 *
SECONDARY_NW_QUAD_XY 535154.778 3616516.101 *
SECONDARY_NE_QUAD_XY 541013.952 3616538.537 *
SECONDARY_SE_QUAD_XY 541042.499 3609610.295 *
SECONDARY_SW_QUAD_XY 535179.246 3609587.881 *
RMSE_XY 1.214 *
IMAGE_SOURCE "CIR FILM" *
SOURCE_IMAGE_ID "NAPP 9554 107" *
SOURCE_IMAGE_DATE 1996 06 04 *
SOURCE_IMAGE_ID "NAPP 9553 210" *
SOURCE_IMAGE_DATE 1996 06 04 *
SOURCE_DEM_DATE 1988 01 01 *
AGENCY "WESTERN MAPPING CENTER (WMC)" *
PRODUCER "ANALYTICAL SURVEYS INC." *
PRODUCTION_SYSTEM "ORBIT OR_RECTIFY V.5.2" *
STANDARD_VERSION 1996 12 *
METADATA_DATE 1998 03 09 *
DATA_FILE_SIZE 150301800 *
BYTE_COUNT 19800 * * * * * * * * * * * * * * * * * * * * * * * * * * * * * * * * * * * * * * * * * * * * * * * * * * * * * * * * * * * * * * * * * * * * * * * * * * * * * * * * * * * * * * * * * * * * * * * * * * * * * * * * * * * * * * * * * * * * * * * * * * * * * * * * * * * * * * * * * * * * * * * * * * * * * * * * * * * * * * * * * * * * * * * * * * * * * * * * * * * * * * * * * * * * * * * * * * * * * * * * *
END_USGS_HEADER *
