BEGIN_USGS_DOQ_HEADER *
QUADRANGLE_NAME "BARRETT LAKE" *
QUADRANT NW *
NORTH_LATITUDE 32 45 00.000 *
WEST_LONGITUDE -116 45 00.000 *
SOUTH_LATITUDE 32 41 15.000 *
EAST_LONGITUDE -116 41 15.000 *
PRODUCTION_DATE 1998 03 05 *
RASTER_ORDER LEFT_RIGHT/TOP_BOTTOM *
BAND_ORGANIZATION BIP *
BAND_CONTENT RED *
BAND_CONTENT GREEN *
BAND_CONTENT BLUE *
BITS_PER_PIXEL 8 *
SAMPLES_AND_LINES 6600 7590 *
HORIZONTAL_DATUM NAD83 *
HORIZONTAL_COORDINATE_SYSTEM UTM *
COORDINATE_ZONE 11 *
HORIZONTAL_UNITS METERS *
HORIZONTAL_RESOLUTION 1.000 *
SECONDARY_HORIZONTAL_DATUM NAD27 *
XY_ORIGIN 523020.000 3623940.000 *
SECONDARY_XY_ORIGIN 523100.527 3623743.806 *
NATION US *
STATE CA *
NW_QUAD_CORNER_XY 523419.630 3623600.116 *
NE_QUAD_CORNER_XY 529274.559 3623615.663 *
SE_QUAD_CORNER_XY 529294.985 3616687.176 *
SW_QUAD_CORNER_XY 523435.970 3616671.644 *
SECONDARY_NW_QUAD_XY 523420.140 3623409.838 *
SECONDARY_NE_QUAD_XY 529275.196 3623425.387 *
SECONDARY_SE_QUAD_XY 529295.621 3616497.116 *
SECONDARY_SW_QUAD_XY 523436.480 3616481.583 *
RMSE_XY 2.855 *
IMAGE_SOURCE "CIR FILM" *
SOURCE_IMAGE_ID "NAPP 9554 15" *
SOURCE_IMAGE_DATE 1996 06 04 *
SOURCE_DEM_DATE 1954 01 01 *
AGENCY "WESTERN MAPPING CENTER (WMC)" *
PRODUCER "ANALYTICAL SURVEYS INC." *
PRODUCTION_SYSTEM "ORBIT OR_RECTIFY V.5.2" *
STANDARD_VERSION 1996 12 *
METADATA_DATE 1998 03 05 *
DATA_FILE_SIZE 150301800 *
BYTE_COUNT 19800 * * * * * * * * * * * * * * * * * * * * * * * * * * * * * * * * * * * * * * * * * * * * * * * * * * * * * * * * * * * * * * * * * * * * * * * * * * * * * * * * * * * * * * * * * * * * * * * * * * * * * * * * * * * * * * * * * * * * * * * * * * * * * * * * * * * * * * * * * * * * * * * * * * * * * * * * * * * * * * * * * * * * * * * * * * * * * * * * * * * * * * * * * * * * * * * * * * * * * * * * * * *
END_USGS_HEADER *
