BEGIN_USGS_DOQ_HEADER *
QUADRANGLE_NAME "DULZURA" *
QUADRANT SE *
NORTH_LATITUDE 32 41 15.000 *
WEST_LONGITUDE -116 48 45.000 *
SOUTH_LATITUDE 32 37 30.000 *
EAST_LONGITUDE -116 45 00.000 *
PRODUCTION_DATE 1998 03 04 *
RASTER_ORDER LEFT_RIGHT/TOP_BOTTOM *
BAND_ORGANIZATION BIP *
BAND_CONTENT RED *
BAND_CONTENT GREEN *
BAND_CONTENT BLUE *
BITS_PER_PIXEL 8 *
SAMPLES_AND_LINES 6600 7560 *
HORIZONTAL_DATUM NAD83 *
HORIZONTAL_COORDINATE_SYSTEM UTM *
COORDINATE_ZONE 11 *
HORIZONTAL_UNITS METERS *
HORIZONTAL_RESOLUTION 1.000 *
SECONDARY_HORIZONTAL_DATUM NAD27 *
XY_ORIGIN 517170.000 3616980.000 *
SECONDARY_XY_ORIGIN 517250.538 3616783.859 *
NATION US *
STATE CA *
NW_QUAD_CORNER_XY 517576.967 3616659.563 *
NE_QUAD_CORNER_XY 523435.970 3616671.644 *
SE_QUAD_CORNER_XY 523452.283 3609743.241 *
SW_QUAD_CORNER_XY 517589.202 3609731.173 *
SECONDARY_NW_QUAD_XY 517577.349 3616469.503 *
SECONDARY_NE_QUAD_XY 523436.480 3616481.583 *
SECONDARY_SE_QUAD_XY 523452.792 3609553.398 *
SECONDARY_SW_QUAD_XY 517589.583 3609541.330 *
RMSE_XY 2.541 *
IMAGE_SOURCE "CIR FILM" *
SOURCE_IMAGE_ID "NAPP 9554 97" *
SOURCE_IMAGE_DATE 1996 06 04 *
SOURCE_DEM_DATE 1997 01 01 *
AGENCY "WESTERN MAPPING CENTER (WMC)" *
PRODUCER "ANALYTICAL SURVEYS INC." *
PRODUCTION_SYSTEM "ORBIT OR_RECTIFY V.5.2" *
STANDARD_VERSION 1996 12 *
METADATA_DATE 1998 03 04 *
DATA_FILE_SIZE 149707800 *
BYTE_COUNT 19800 * * * * * * * * * * * * * * * * * * * * * * * * * * * * * * * * * * * * * * * * * * * * * * * * * * * * * * * * * * * * * * * * * * * * * * * * * * * * * * * * * * * * * * * * * * * * * * * * * * * * * * * * * * * * * * * * * * * * * * * * * * * * * * * * * * * * * * * * * * * * * * * * * * * * * * * * * * * * * * * * * * * * * * * * * * * * * * * * * * * * * * * * * * * * * * * * * * * * * * * * * * *
END_USGS_HEADER *
