BEGIN_USGS_DOQ_HEADER *
QUADRANGLE_NAME "DULZURA" *
QUADRANT SW *
NORTH_LATITUDE 32 41 15.000 *
WEST_LONGITUDE -116 52 30.000 *
SOUTH_LATITUDE 32 37 30.000 *
EAST_LONGITUDE -116 48 45.000 *
PRODUCTION_DATE 1998 03 04 *
RASTER_ORDER LEFT_RIGHT/TOP_BOTTOM *
BAND_ORGANIZATION BIP *
BAND_CONTENT RED *
BAND_CONTENT GREEN *
BAND_CONTENT BLUE *
BITS_PER_PIXEL 8 *
SAMPLES_AND_LINES 6570 7560 *
HORIZONTAL_DATUM NAD83 *
HORIZONTAL_COORDINATE_SYSTEM UTM *
COORDINATE_ZONE 11 *
HORIZONTAL_UNITS METERS *
HORIZONTAL_RESOLUTION 1.000 *
SECONDARY_HORIZONTAL_DATUM NAD27 *
XY_ORIGIN 511320.000 3616980.000 *
SECONDARY_XY_ORIGIN 511400.549 3616783.913 *
NATION US *
STATE CA *
NW_QUAD_CORNER_XY 511717.973 3616650.934 *
NE_QUAD_CORNER_XY 517576.967 3616659.563 *
SE_QUAD_CORNER_XY 517589.202 3609731.173 *
SW_QUAD_CORNER_XY 511726.130 3609722.552 *
SECONDARY_NW_QUAD_XY 511718.228 3616460.873 *
SECONDARY_NE_QUAD_XY 517577.349 3616469.503 *
SECONDARY_SE_QUAD_XY 517589.583 3609541.330 *
SECONDARY_SW_QUAD_XY 511726.384 3609532.709 *
RMSE_XY 2.100 *
IMAGE_SOURCE "CIR FILM" *
SOURCE_IMAGE_ID "NAPP 9554 127" *
SOURCE_IMAGE_DATE 1996 06 04 *
SOURCE_DEM_DATE 1997 01 01 *
AGENCY "WESTERN MAPPING CENTER (WMC)" *
PRODUCER "ANALYTICAL SURVEYS INC." *
PRODUCTION_SYSTEM "ORBIT OR_RECTIFY V.5.2" *
STANDARD_VERSION 1996 12 *
METADATA_DATE 1998 03 04 *
DATA_FILE_SIZE 149027310 *
BYTE_COUNT 19710 * * * * * * * * * * * * * * * * * * * * * * * * * * * * * * * * * * * * * * * * * * * * * * * * * * * * * * * * * * * * * * * * * * * * * * * * * * * * * * * * * * * * * * * * * * * * * * * * * * * * * * * * * * * * * * * * * * * * * * * * * * * * * * * * * * * * * * * * * * * * * * * * * * * * * * * * * * * * * * * * * * * * * * * * * * * * * * * * * * * * * * * * * * * * * * * * * * * * * * * * * *
END_USGS_HEADER *
