BEGIN_USGS_DOQ_HEADER *
QUADRANGLE_NAME "JAMUL MOUNTAINS" *
QUADRANT NE *
NORTH_LATITUDE 32 45 00.000 *
WEST_LONGITUDE -116 56 15.000 *
SOUTH_LATITUDE 32 41 15.000 *
EAST_LONGITUDE -116 52 30.000 *
PRODUCTION_DATE 1998 03 05 *
RASTER_ORDER LEFT_RIGHT/TOP_BOTTOM *
BAND_ORGANIZATION BIP *
BAND_CONTENT RED *
BAND_CONTENT GREEN *
BAND_CONTENT BLUE *
BITS_PER_PIXEL 8 *
SAMPLES_AND_LINES 6570 7590 *
HORIZONTAL_DATUM NAD83 *
HORIZONTAL_COORDINATE_SYSTEM UTM *
COORDINATE_ZONE 11 *
HORIZONTAL_UNITS METERS *
HORIZONTAL_RESOLUTION 1.000 *
SECONDARY_HORIZONTAL_DATUM NAD27 *
XY_ORIGIN 505470.000 3623910.000 *
SECONDARY_XY_ORIGIN 505550.594 3623713.950 *
NATION US *
STATE CA *
NW_QUAD_CORNER_XY 505854.900 3623574.203 *
NE_QUAD_CORNER_XY 511709.803 3623579.385 *
SE_QUAD_CORNER_XY 511717.973 3616650.934 *
SW_QUAD_CORNER_XY 505858.985 3616645.757 *
SECONDARY_NW_QUAD_XY 505855.028 3623383.925 *
SECONDARY_NE_QUAD_XY 511710.058 3623389.108 *
SECONDARY_SE_QUAD_XY 511718.228 3616460.873 *
SECONDARY_SW_QUAD_XY 505859.113 3616455.696 *
RMSE_XY 1.597 *
IMAGE_SOURCE "CIR FILM" *
SOURCE_IMAGE_ID "NAPP 10187 55" *
SOURCE_IMAGE_DATE 1996 09 30 *
SOURCE_IMAGE_ID "NAPP 10187 57" *
SOURCE_IMAGE_DATE 1996 09 30 *
SOURCE_DEM_DATE 1997 01 01 *
AGENCY "WESTERN MAPPING CENTER (WMC)" *
PRODUCER "ANALYTICAL SURVEYS INC." *
PRODUCTION_SYSTEM "ORBIT OR_RECTIFY V.5.2" *
STANDARD_VERSION 1996 12 *
METADATA_DATE 1998 03 05 *
DATA_FILE_SIZE 149618610 *
BYTE_COUNT 19710 * * * * * * * * * * * * * * * * * * * * * * * * * * * * * * * * * * * * * * * * * * * * * * * * * * * * * * * * * * * * * * * * * * * * * * * * * * * * * * * * * * * * * * * * * * * * * * * * * * * * * * * * * * * * * * * * * * * * * * * * * * * * * * * * * * * * * * * * * * * * * * * * * * * * * * * * * * * * * * * * * * * * * * * * * * * * * * * * * * * * * * * * * * * * * * * * * * * * * * * *
END_USGS_HEADER *
