BEGIN_USGS_DOQ_HEADER *
QUADRANGLE_NAME "SWEENEY PASS" *
QUADRANT NE *
NORTH_LATITUDE 32 52 30.000 *
WEST_LONGITUDE -116 11 15.000 *
SOUTH_LATITUDE 32 48 45.000 *
EAST_LONGITUDE -116 07 30.000 *
PRODUCTION_DATE 1998 03 07 *
RASTER_ORDER LEFT_RIGHT/TOP_BOTTOM *
BAND_ORGANIZATION BIP *
BAND_CONTENT RED *
BAND_CONTENT GREEN *
BAND_CONTENT BLUE *
BITS_PER_PIXEL 8 *
SAMPLES_AND_LINES 6630 7620 *
HORIZONTAL_DATUM NAD83 *
HORIZONTAL_COORDINATE_SYSTEM UTM *
COORDINATE_ZONE 11 *
HORIZONTAL_UNITS METERS *
HORIZONTAL_RESOLUTION 1.000 *
SECONDARY_HORIZONTAL_DATUM NAD27 *
XY_ORIGIN 575610.000 3638100.000 *
SECONDARY_XY_ORIGIN 575690.941 3637903.942 *
NATION US *
STATE CA *
NW_QUAD_CORNER_XY 576008.266 3637722.118 *
NE_QUAD_CORNER_XY 581855.237 3637768.859 *
SE_QUAD_CORNER_XY 581912.631 3630839.941 *
SW_QUAD_CORNER_XY 576061.559 3630793.246 *
SECONDARY_NW_QUAD_XY 576009.926 3637531.415 *
SECONDARY_NE_QUAD_XY 581857.025 3637578.157 *
SECONDARY_SE_QUAD_XY 581914.417 3630649.455 *
SECONDARY_SW_QUAD_XY 576063.218 3630602.759 *
RMSE_XY 3.933 *
IMAGE_SOURCE "CIR FILM" *
SOURCE_IMAGE_ID "NAPP 9566 14" *
SOURCE_IMAGE_DATE 1996 06 16 *
SOURCE_DEM_DATE 1957 01 01 *
AGENCY "WESTERN MAPPING CENTER (WMC)" *
PRODUCER "ANALYTICAL SURVEYS INC." *
PRODUCTION_SYSTEM "ORBIT OR_RECTIFY V.5.2" *
STANDARD_VERSION 1996 12 *
METADATA_DATE 1998 03 07 *
DATA_FILE_SIZE 151581690 *
BYTE_COUNT 19890 * * * * * * * * * * * * * * * * * * * * * * * * * * * * * * * * * * * * * * * * * * * * * * * * * * * * * * * * * * * * * * * * * * * * * * * * * * * * * * * * * * * * * * * * * * * * * * * * * * * * * * * * * * * * * * * * * * * * * * * * * * * * * * * * * * * * * * * * * * * * * * * * * * * * * * * * * * * * * * * * * * * * * * * * * * * * * * * * * * * * * * * * * * * * * * * * * * * * * * * * * * * *
END_USGS_HEADER *
