BEGIN_USGS_DOQ_HEADER *
QUADRANGLE_NAME "SWEENEY PASS" *
QUADRANT NW *
NORTH_LATITUDE 32 52 30.000 *
WEST_LONGITUDE -116 15 00.000 *
SOUTH_LATITUDE 32 48 45.000 *
EAST_LONGITUDE -116 11 15.000 *
PRODUCTION_DATE 1998 03 07 *
RASTER_ORDER LEFT_RIGHT/TOP_BOTTOM *
BAND_ORGANIZATION BIP *
BAND_CONTENT RED *
BAND_CONTENT GREEN *
BAND_CONTENT BLUE *
BITS_PER_PIXEL 8 *
SAMPLES_AND_LINES 6630 7590 *
HORIZONTAL_DATUM NAD83 *
HORIZONTAL_COORDINATE_SYSTEM UTM *
COORDINATE_ZONE 11 *
HORIZONTAL_UNITS METERS *
HORIZONTAL_RESOLUTION 1.000 *
SECONDARY_HORIZONTAL_DATUM NAD27 *
XY_ORIGIN 569760.000 3638040.000 *
SECONDARY_XY_ORIGIN 569840.893 3637844.004 *
NATION US *
STATE CA *
NW_QUAD_CORNER_XY 570161.332 3637678.840 *
NE_QUAD_CORNER_XY 576008.266 3637722.118 *
SE_QUAD_CORNER_XY 576061.559 3630793.246 *
SW_QUAD_CORNER_XY 570210.525 3630750.011 *
SECONDARY_NW_QUAD_XY 570162.865 3637488.136 *
SECONDARY_NE_QUAD_XY 576009.926 3637531.415 *
SECONDARY_SE_QUAD_XY 576063.218 3630602.759 *
SECONDARY_SW_QUAD_XY 570212.056 3630559.522 *
RMSE_XY 3.978 *
IMAGE_SOURCE "CIR FILM" *
SOURCE_IMAGE_ID "NAPP 9571 62" *
SOURCE_IMAGE_DATE 1996 09 26 *
SOURCE_IMAGE_ID "NAPP 9571 81" *
SOURCE_IMAGE_DATE 1996 09 26 *
SOURCE_DEM_DATE 1957 01 01 *
AGENCY "WESTERN MAPPING CENTER (WMC)" *
PRODUCER "ANALYTICAL SURVEYS INC." *
PRODUCTION_SYSTEM "ORBIT OR_RECTIFY V.5.2" *
STANDARD_VERSION 1996 12 *
METADATA_DATE 1998 03 07 *
DATA_FILE_SIZE 150984990 *
BYTE_COUNT 19890 * * * * * * * * * * * * * * * * * * * * * * * * * * * * * * * * * * * * * * * * * * * * * * * * * * * * * * * * * * * * * * * * * * * * * * * * * * * * * * * * * * * * * * * * * * * * * * * * * * * * * * * * * * * * * * * * * * * * * * * * * * * * * * * * * * * * * * * * * * * * * * * * * * * * * * * * * * * * * * * * * * * * * * * * * * * * * * * * * * * * * * * * * * * * * * * * * * * * * * * * * *
END_USGS_HEADER *
