BEGIN_USGS_DOQ_HEADER *
QUADRANGLE_NAME "MOUNT LAGUNA" *
QUADRANT NE *
NORTH_LATITUDE 32 52 30.000 *
WEST_LONGITUDE -116 26 15.000 *
SOUTH_LATITUDE 32 48 45.000 *
EAST_LONGITUDE -116 22 30.000 *
PRODUCTION_DATE 1998 03 05 *
RASTER_ORDER LEFT_RIGHT/TOP_BOTTOM *
BAND_ORGANIZATION BIP *
BAND_CONTENT RED *
BAND_CONTENT GREEN *
BAND_CONTENT BLUE *
BITS_PER_PIXEL 8 *
SAMPLES_AND_LINES 6570 7590 *
HORIZONTAL_DATUM NAD83 *
HORIZONTAL_COORDINATE_SYSTEM UTM *
COORDINATE_ZONE 11 *
HORIZONTAL_UNITS METERS *
HORIZONTAL_RESOLUTION 1.000 *
SECONDARY_HORIZONTAL_DATUM NAD27 *
XY_ORIGIN 552240.000 3637920.000 *
SECONDARY_XY_ORIGIN 552320.651 3637724.123 *
NATION US *
STATE CA *
NW_QUAD_CORNER_XY 552620.727 3637569.782 *
NE_QUAD_CORNER_XY 558467.566 3637602.672 *
SE_QUAD_CORNER_XY 558508.559 3630673.918 *
SW_QUAD_CORNER_XY 552657.620 3630641.061 *
SECONDARY_NW_QUAD_XY 552621.876 3637379.076 *
SECONDARY_NE_QUAD_XY 558468.843 3637411.966 *
SECONDARY_SE_QUAD_XY 558509.835 3630483.428 *
SECONDARY_SW_QUAD_XY 552658.769 3630450.570 *
RMSE_XY 2.295 *
IMAGE_SOURCE "CIR FILM" *
SOURCE_IMAGE_ID "NAPP 9572 63" *
SOURCE_IMAGE_DATE 1996 09 27 *
SOURCE_IMAGE_ID "NAPP 9572 65" *
SOURCE_IMAGE_DATE 1996 09 27 *
SOURCE_IMAGE_ID "NAPP 9553 20" *
SOURCE_IMAGE_DATE 1996 06 04 *
SOURCE_DEM_DATE 1988 01 01 *
AGENCY "WESTERN MAPPING CENTER (WMC)" *
PRODUCER "ANALYTICAL SURVEYS INC." *
PRODUCTION_SYSTEM "ORBIT OR_RECTIFY V.5.2" *
STANDARD_VERSION 1996 12 *
METADATA_DATE 1998 03 06 *
DATA_FILE_SIZE 149618610 *
BYTE_COUNT 19710 * * * * * * * * * * * * * * * * * * * * * * * * * * * * * * * * * * * * * * * * * * * * * * * * * * * * * * * * * * * * * * * * * * * * * * * * * * * * * * * * * * * * * * * * * * * * * * * * * * * * * * * * * * * * * * * * * * * * * * * * * * * * * * * * * * * * * * * * * * * * * * * * * * * * * * * * * * * * * * * * * * * * * * * * * * * * * * * * * * * * * * * * * * * * * * * * * * * * * *
END_USGS_HEADER *
