BEGIN_USGS_DOQ_HEADER *
QUADRANGLE_NAME "MOUNT LAGUNA" *
QUADRANT NW *
NORTH_LATITUDE 32 52 30.000 *
WEST_LONGITUDE -116 30 00.000 *
SOUTH_LATITUDE 32 48 45.000 *
EAST_LONGITUDE -116 26 15.000 *
PRODUCTION_DATE 1998 03 05 *
RASTER_ORDER LEFT_RIGHT/TOP_BOTTOM *
BAND_ORGANIZATION BIP *
BAND_CONTENT RED *
BAND_CONTENT GREEN *
BAND_CONTENT BLUE *
BITS_PER_PIXEL 8 *
SAMPLES_AND_LINES 6570 7590 *
HORIZONTAL_DATUM NAD83 *
HORIZONTAL_COORDINATE_SYSTEM UTM *
COORDINATE_ZONE 11 *
HORIZONTAL_UNITS METERS *
HORIZONTAL_RESOLUTION 1.000 *
SECONDARY_HORIZONTAL_DATUM NAD27 *
XY_ORIGIN 546390.000 3637890.000 *
SECONDARY_XY_ORIGIN 546470.577 3637694.161 *
NATION US *
STATE CA *
NW_QUAD_CORNER_XY 546773.914 3637540.354 *
NE_QUAD_CORNER_XY 552620.727 3637569.782 *
SE_QUAD_CORNER_XY 552657.620 3630641.061 *
SW_QUAD_CORNER_XY 546806.708 3630611.662 *
SECONDARY_NW_QUAD_XY 546774.936 3637349.647 *
SECONDARY_NE_QUAD_XY 552621.876 3637379.076 *
SECONDARY_SE_QUAD_XY 552658.769 3630450.570 *
SECONDARY_SW_QUAD_XY 546807.729 3630421.171 *
RMSE_XY 2.181 *
IMAGE_SOURCE "CIR FILM" *
SOURCE_IMAGE_ID "NAPP 9553 20" *
SOURCE_IMAGE_DATE 1996 06 04 *
SOURCE_IMAGE_ID "NAPP 9571 169" *
SOURCE_IMAGE_DATE 1996 09 26 *
SOURCE_DEM_DATE 1988 01 01 *
AGENCY "WESTERN MAPPING CENTER (WMC)" *
PRODUCER "ANALYTICAL SURVEYS INC." *
PRODUCTION_SYSTEM "ORBIT OR_RECTIFY V.5.2" *
STANDARD_VERSION 1996 12 *
METADATA_DATE 1998 03 06 *
DATA_FILE_SIZE 149618610 *
BYTE_COUNT 19710 * * * * * * * * * * * * * * * * * * * * * * * * * * * * * * * * * * * * * * * * * * * * * * * * * * * * * * * * * * * * * * * * * * * * * * * * * * * * * * * * * * * * * * * * * * * * * * * * * * * * * * * * * * * * * * * * * * * * * * * * * * * * * * * * * * * * * * * * * * * * * * * * * * * * * * * * * * * * * * * * * * * * * * * * * * * * * * * * * * * * * * * * * * * * * * * * * * * * * * * *
END_USGS_HEADER *
