BEGIN_USGS_DOQ_HEADER *
QUADRANGLE_NAME "DESCANSO" *
QUADRANT SE *
NORTH_LATITUDE 32 48 45.000 *
WEST_LONGITUDE -116 33 45.000 *
SOUTH_LATITUDE 32 45 00.000 *
EAST_LONGITUDE -116 30 00.000 *
PRODUCTION_DATE 1998 03 09 *
RASTER_ORDER LEFT_RIGHT/TOP_BOTTOM *
BAND_ORGANIZATION BIP *
BAND_CONTENT RED *
BAND_CONTENT GREEN *
BAND_CONTENT BLUE *
BITS_PER_PIXEL 8 *
SAMPLES_AND_LINES 6570 7590 *
HORIZONTAL_DATUM NAD83 *
HORIZONTAL_COORDINATE_SYSTEM UTM *
COORDINATE_ZONE 11 *
HORIZONTAL_UNITS METERS *
HORIZONTAL_RESOLUTION 1.000 *
SECONDARY_HORIZONTAL_DATUM NAD27 *
XY_ORIGIN 540570.000 3630930.000 *
SECONDARY_XY_ORIGIN 540650.607 3630734.092 *
NATION US *
STATE CA *
NW_QUAD_CORNER_XY 540955.819 3630585.722 *
NE_QUAD_CORNER_XY 546806.708 3630611.662 *
SE_QUAD_CORNER_XY 546839.446 3623683.039 *
SW_QUAD_CORNER_XY 540984.464 3623657.125 *
SECONDARY_NW_QUAD_XY 540956.712 3630395.231 *
SECONDARY_NE_QUAD_XY 546807.729 3630421.171 *
SECONDARY_SE_QUAD_XY 546840.465 3623492.763 *
SECONDARY_SW_QUAD_XY 540985.356 3623466.849 *
RMSE_XY 1.937 *
IMAGE_SOURCE "CIR FILM" *
SOURCE_IMAGE_ID "NAPP 9553 110" *
SOURCE_IMAGE_DATE 1996 06 04 *
SOURCE_DEM_DATE 1988 01 01 *
AGENCY "WESTERN MAPPING CENTER (WMC)" *
PRODUCER "ANALYTICAL SURVEYS INC." *
PRODUCTION_SYSTEM "ORBIT OR_RECTIFY V.5.2" *
STANDARD_VERSION 1996 12 *
METADATA_DATE 1998 03 09 *
DATA_FILE_SIZE 149618610 *
BYTE_COUNT 19710 * * * * * * * * * * * * * * * * * * * * * * * * * * * * * * * * * * * * * * * * * * * * * * * * * * * * * * * * * * * * * * * * * * * * * * * * * * * * * * * * * * * * * * * * * * * * * * * * * * * * * * * * * * * * * * * * * * * * * * * * * * * * * * * * * * * * * * * * * * * * * * * * * * * * * * * * * * * * * * * * * * * * * * * * * * * * * * * * * * * * * * * * * * * * * * * * * * * * * * * * * *
END_USGS_HEADER *
