BEGIN_USGS_DOQ_HEADER *
QUADRANGLE_NAME "VIEJAS MOUNTAIN" *
QUADRANT NE *
NORTH_LATITUDE 32 52 30.000 *
WEST_LONGITUDE -116 41 15.000 *
SOUTH_LATITUDE 32 48 45.000 *
EAST_LONGITUDE -116 37 30.000 *
PRODUCTION_DATE 1998 03 05 *
RASTER_ORDER LEFT_RIGHT/TOP_BOTTOM *
BAND_ORGANIZATION BIP *
BAND_CONTENT RED *
BAND_CONTENT GREEN *
BAND_CONTENT BLUE *
BITS_PER_PIXEL 8 *
SAMPLES_AND_LINES 6570 7560 *
HORIZONTAL_DATUM NAD83 *
HORIZONTAL_COORDINATE_SYSTEM UTM *
COORDINATE_ZONE 11 *
HORIZONTAL_UNITS METERS *
HORIZONTAL_RESOLUTION 1.000 *
SECONDARY_HORIZONTAL_DATUM NAD27 *
XY_ORIGIN 528840.000 3637800.000 *
SECONDARY_XY_ORIGIN 528920.540 3637603.905 *
NATION US *
STATE CA *
NW_QUAD_CORNER_XY 529233.603 3637472.845 *
NE_QUAD_CORNER_XY 535080.355 3637491.886 *
SE_QUAD_CORNER_XY 535104.950 3630563.242 *
SW_QUAD_CORNER_XY 529254.098 3630544.220 *
SECONDARY_NW_QUAD_XY 529234.241 3637282.137 *
SECONDARY_NE_QUAD_XY 535081.121 3637301.178 *
SECONDARY_SE_QUAD_XY 535105.715 3630372.749 *
SECONDARY_SW_QUAD_XY 529254.736 3630353.727 *
RMSE_XY 1.751 *
IMAGE_SOURCE "CIR FILM" *
SOURCE_IMAGE_ID "NAPP 9553 204" *
SOURCE_IMAGE_DATE 1996 06 04 *
SOURCE_IMAGE_ID "NAPP 9553 203" *
SOURCE_IMAGE_DATE 1996 06 04 *
SOURCE_DEM_DATE 1954 01 01 *
AGENCY "WESTERN MAPPING CENTER (WMC)" *
PRODUCER "ANALYTICAL SURVEYS INC." *
PRODUCTION_SYSTEM "ORBIT OR_RECTIFY V.5.2" *
STANDARD_VERSION 1996 12 *
METADATA_DATE 1998 03 05 *
DATA_FILE_SIZE 149027310 *
BYTE_COUNT 19710 * * * * * * * * * * * * * * * * * * * * * * * * * * * * * * * * * * * * * * * * * * * * * * * * * * * * * * * * * * * * * * * * * * * * * * * * * * * * * * * * * * * * * * * * * * * * * * * * * * * * * * * * * * * * * * * * * * * * * * * * * * * * * * * * * * * * * * * * * * * * * * * * * * * * * * * * * * * * * * * * * * * * * * * * * * * * * * * * * * * * * * * * * * * * * * * * * * * * * * * *
END_USGS_HEADER *
