BEGIN_USGS_DOQ_HEADER *
QUADRANGLE_NAME "ALPINE" *
QUADRANT SW *
NORTH_LATITUDE 32 48 45.000 *
WEST_LONGITUDE -116 52 30.000 *
SOUTH_LATITUDE 32 45 00.000 *
EAST_LONGITUDE -116 48 45.000 *
PRODUCTION_DATE 1998 03 04 *
RASTER_ORDER LEFT_RIGHT/TOP_BOTTOM *
BAND_ORGANIZATION BIP *
BAND_CONTENT RED *
BAND_CONTENT GREEN *
BAND_CONTENT BLUE *
BITS_PER_PIXEL 8 *
SAMPLES_AND_LINES 6570 7590 *
HORIZONTAL_DATUM NAD83 *
HORIZONTAL_COORDINATE_SYSTEM UTM *
COORDINATE_ZONE 11 *
HORIZONTAL_UNITS METERS *
HORIZONTAL_RESOLUTION 1.000 *
SECONDARY_HORIZONTAL_DATUM NAD27 *
XY_ORIGIN 511320.000 3630840.000 *
SECONDARY_XY_ORIGIN 511400.587 3630643.900 *
NATION US *
STATE CA *
NW_QUAD_CORNER_XY 511701.619 3630507.905 *
NE_QUAD_CORNER_XY 517552.436 3630516.552 *
SE_QUAD_CORNER_XY 517564.712 3623588.023 *
SW_QUAD_CORNER_XY 511709.803 3623579.385 *
SECONDARY_NW_QUAD_XY 511701.874 3630317.412 *
SECONDARY_NE_QUAD_XY 517552.819 3630326.058 *
SECONDARY_SE_QUAD_XY 517565.094 3623397.745 *
SECONDARY_SW_QUAD_XY 511710.058 3623389.108 *
RMSE_XY 1.550 *
IMAGE_SOURCE "CIR FILM" *
SOURCE_IMAGE_ID "NAPP 9554 131" *
SOURCE_IMAGE_DATE 1996 06 04 *
SOURCE_IMAGE_ID "NAPP 9554 133" *
SOURCE_IMAGE_DATE 1996 06 04 *
SOURCE_IMAGE_ID "NAPP 10187 57" *
SOURCE_IMAGE_DATE 1996 09 30 *
SOURCE_DEM_DATE 1988 01 01 *
AGENCY "WESTERN MAPPING CENTER (WMC)" *
PRODUCER "ANALYTICAL SURVEYS INC." *
PRODUCTION_SYSTEM "ORBIT OR_RECTIFY V.5.2" *
STANDARD_VERSION 1996 12 *
METADATA_DATE 1998 03 05 *
DATA_FILE_SIZE 149618610 *
BYTE_COUNT 19710 * * * * * * * * * * * * * * * * * * * * * * * * * * * * * * * * * * * * * * * * * * * * * * * * * * * * * * * * * * * * * * * * * * * * * * * * * * * * * * * * * * * * * * * * * * * * * * * * * * * * * * * * * * * * * * * * * * * * * * * * * * * * * * * * * * * * * * * * * * * * * * * * * * * * * * * * * * * * * * * * * * * * * * * * * * * * * * * * * * * * * * * * * * * * * * * * * * * * * *
END_USGS_HEADER *
