BEGIN_USGS_DOQ_HEADER *
QUADRANGLE_NAME "EL CAJON" *
QUADRANT NE *
NORTH_LATITUDE 32 52 30.000 *
WEST_LONGITUDE -116 56 15.000 *
SOUTH_LATITUDE 32 48 45.000 *
EAST_LONGITUDE -116 52 30.000 *
PRODUCTION_DATE 1998 03 02 *
RASTER_ORDER LEFT_RIGHT/TOP_BOTTOM *
BAND_ORGANIZATION BIP *
BAND_CONTENT RED *
BAND_CONTENT GREEN *
BAND_CONTENT BLUE *
BITS_PER_PIXEL 8 *
SAMPLES_AND_LINES 6570 7590 *
HORIZONTAL_DATUM NAD83 *
HORIZONTAL_COORDINATE_SYSTEM UTM *
COORDINATE_ZONE 11 *
HORIZONTAL_UNITS METERS *
HORIZONTAL_RESOLUTION 1.000 *
SECONDARY_HORIZONTAL_DATUM NAD27 *
XY_ORIGIN 505440.000 3637770.000 *
SECONDARY_XY_ORIGIN 505520.641 3637573.927 *
NATION US *
STATE CA *
NW_QUAD_CORNER_XY 505846.709 3637431.302 *
NE_QUAD_CORNER_XY 511693.421 3637436.495 *
SE_QUAD_CORNER_XY 511701.619 3630507.905 *
SW_QUAD_CORNER_XY 505850.808 3630502.718 *
SECONDARY_NW_QUAD_XY 505846.837 3637240.593 *
SECONDARY_NE_QUAD_XY 511693.676 3637245.786 *
SECONDARY_SE_QUAD_XY 511701.874 3630317.412 *
SECONDARY_SW_QUAD_XY 505850.936 3630312.224 *
RMSE_XY 2.249 *
IMAGE_SOURCE "CIR FILM" *
SOURCE_IMAGE_ID "NAPP 10187 59" *
SOURCE_IMAGE_DATE 1996 09 30 *
SOURCE_IMAGE_ID "NAPP 9554 208" *
SOURCE_IMAGE_DATE 1996 06 04 *
SOURCE_IMAGE_ID "NAPP 10187 57" *
SOURCE_IMAGE_DATE 1996 09 30 *
SOURCE_DEM_DATE 1997 01 01 *
AGENCY "WESTERN MAPPING CENTER (WMC)" *
PRODUCER "ANALYTICAL SURVEYS INC." *
PRODUCTION_SYSTEM "ORBIT OR_RECTIFY V.5.2" *
STANDARD_VERSION 1996 12 *
METADATA_DATE 1998 03 02 *
DATA_FILE_SIZE 149618610 *
BYTE_COUNT 19710 * * * * * * * * * * * * * * * * * * * * * * * * * * * * * * * * * * * * * * * * * * * * * * * * * * * * * * * * * * * * * * * * * * * * * * * * * * * * * * * * * * * * * * * * * * * * * * * * * * * * * * * * * * * * * * * * * * * * * * * * * * * * * * * * * * * * * * * * * * * * * * * * * * * * * * * * * * * * * * * * * * * * * * * * * * * * * * * * * * * * * * * * * * * * * * * * * * * * * *
END_USGS_HEADER *
