BEGIN_USGS_DOQ_HEADER *
QUADRANGLE_NAME "EL CAJON" *
QUADRANT SW *
NORTH_LATITUDE 32 48 45.000 *
WEST_LONGITUDE -117 00 00.000 *
SOUTH_LATITUDE 32 45 00.000 *
EAST_LONGITUDE -116 56 15.000 *
PRODUCTION_DATE 1998 03 02 *
RASTER_ORDER LEFT_RIGHT/TOP_BOTTOM *
BAND_ORGANIZATION BIP *
BAND_CONTENT RED *
BAND_CONTENT GREEN *
BAND_CONTENT BLUE *
BITS_PER_PIXEL 8 *
SAMPLES_AND_LINES 6570 7560 *
HORIZONTAL_DATUM NAD83 *
HORIZONTAL_COORDINATE_SYSTEM UTM *
COORDINATE_ZONE 11 *
HORIZONTAL_UNITS METERS *
HORIZONTAL_RESOLUTION 1.000 *
SECONDARY_HORIZONTAL_DATUM NAD27 *
XY_ORIGIN 499590.000 3630810.000 *
SECONDARY_XY_ORIGIN 499670.647 3630613.978 *
NATION US *
STATE CA *
NW_QUAD_CORNER_XY 500000.000 3630500.988 *
NE_QUAD_CORNER_XY 505850.808 3630502.718 *
SE_QUAD_CORNER_XY 505854.900 3623574.203 *
SW_QUAD_CORNER_XY 500000.000 3623572.475 *
SECONDARY_NW_QUAD_XY 500000.000 3630310.495 *
SECONDARY_NE_QUAD_XY 505850.936 3630312.224 *
SECONDARY_SE_QUAD_XY 505855.028 3623383.925 *
SECONDARY_SW_QUAD_XY 500000.000 3623382.197 *
RMSE_XY 3.622 *
IMAGE_SOURCE "CIR FILM" *
SOURCE_IMAGE_ID "NAPP 10187 66" *
SOURCE_IMAGE_DATE 1996 09 30 *
SOURCE_DEM_DATE 1997 01 01 *
AGENCY "WESTERN MAPPING CENTER (WMC)" *
PRODUCER "ANALYTICAL SURVEYS INC." *
PRODUCTION_SYSTEM "ORBIT OR_RECTIFY V.5.2" *
STANDARD_VERSION 1996 12 *
METADATA_DATE 1998 03 02 *
DATA_FILE_SIZE 149027310 *
BYTE_COUNT 19710 * * * * * * * * * * * * * * * * * * * * * * * * * * * * * * * * * * * * * * * * * * * * * * * * * * * * * * * * * * * * * * * * * * * * * * * * * * * * * * * * * * * * * * * * * * * * * * * * * * * * * * * * * * * * * * * * * * * * * * * * * * * * * * * * * * * * * * * * * * * * * * * * * * * * * * * * * * * * * * * * * * * * * * * * * * * * * * * * * * * * * * * * * * * * * * * * * * * * * * * * * *
END_USGS_HEADER *
