BEGIN_USGS_DOQ_HEADER *
QUADRANGLE_NAME "CARRIZO MOUNTAIN NE" *
QUADRANT NE *
NORTH_LATITUDE 33 00 00.000 *
WEST_LONGITUDE -116 03 45.000 *
SOUTH_LATITUDE 32 56 15.000 *
EAST_LONGITUDE -116 00 00.000 *
PRODUCTION_DATE 1998 03 11 *
RASTER_ORDER LEFT_RIGHT/TOP_BOTTOM *
BAND_ORGANIZATION BIP *
BAND_CONTENT RED *
BAND_CONTENT GREEN *
BAND_CONTENT BLUE *
BITS_PER_PIXEL 8 *
SAMPLES_AND_LINES 6600 7620 *
HORIZONTAL_DATUM NAD83 *
HORIZONTAL_COORDINATE_SYSTEM UTM *
COORDINATE_ZONE 11 *
HORIZONTAL_UNITS METERS *
HORIZONTAL_RESOLUTION 1.000 *
SECONDARY_HORIZONTAL_DATUM NAD27 *
XY_ORIGIN 587190.000 3652050.000 *
SECONDARY_XY_ORIGIN 587270.656 3651853.757 *
NATION US *
STATE CA *
NW_QUAD_CORNER_XY 587578.946 3651677.201 *
NE_QUAD_CORNER_XY 593417.778 3651730.974 *
SE_QUAD_CORNER_XY 593483.596 3644801.819 *
SW_QUAD_CORNER_XY 587640.650 3644748.098 *
SECONDARY_NW_QUAD_XY 587580.866 3651486.072 *
SECONDARY_NE_QUAD_XY 593419.826 3651539.847 *
SECONDARY_SE_QUAD_XY 593485.642 3644610.905 *
SECONDARY_SW_QUAD_XY 587642.568 3644557.183 *
RMSE_XY 2.378 *
IMAGE_SOURCE "CIR FILM" *
SOURCE_IMAGE_ID "NAPP 9566 90" *
SOURCE_IMAGE_DATE 1996 06 16 *
SOURCE_IMAGE_ID "NAPP 9566 91" *
SOURCE_IMAGE_DATE 1996 06 16 *
SOURCE_IMAGE_ID "NAPP 9572 106" *
SOURCE_IMAGE_DATE 1996 09 27 *
SOURCE_DEM_DATE 1975 01 01 *
AGENCY "WESTERN MAPPING CENTER (WMC)" *
PRODUCER "ANALYTICAL SURVEYS INC." *
PRODUCTION_SYSTEM "ORBIT OR_RECTIFY V.5.2" *
STANDARD_VERSION 1996 12 *
METADATA_DATE 1998 03 12 *
DATA_FILE_SIZE 150895800 *
BYTE_COUNT 19800 * * * * * * * * * * * * * * * * * * * * * * * * * * * * * * * * * * * * * * * * * * * * * * * * * * * * * * * * * * * * * * * * * * * * * * * * * * * * * * * * * * * * * * * * * * * * * * * * * * * * * * * * * * * * * * * * * * * * * * * * * * * * * * * * * * * * * * * * * * * * * * * * * * * * * * * * * * * * * * * * * * * * * * * * * * * * * * * * * * * * * * * * * * * * * * * * * * * * * * *
END_USGS_HEADER *
