BEGIN_USGS_DOQ_HEADER *
QUADRANGLE_NAME "CARRIZO MOUNTAIN NE" *
QUADRANT NW *
NORTH_LATITUDE 33 00 00.000 *
WEST_LONGITUDE -116 07 30.000 *
SOUTH_LATITUDE 32 56 15.000 *
EAST_LONGITUDE -116 03 45.000 *
PRODUCTION_DATE 1998 03 11 *
RASTER_ORDER LEFT_RIGHT/TOP_BOTTOM *
BAND_ORGANIZATION BIP *
BAND_CONTENT RED *
BAND_CONTENT GREEN *
BAND_CONTENT BLUE *
BITS_PER_PIXEL 8 *
SAMPLES_AND_LINES 6630 7620 *
HORIZONTAL_DATUM NAD83 *
HORIZONTAL_COORDINATE_SYSTEM UTM *
COORDINATE_ZONE 11 *
HORIZONTAL_UNITS METERS *
HORIZONTAL_RESOLUTION 1.000 *
SECONDARY_HORIZONTAL_DATUM NAD27 *
XY_ORIGIN 581340.000 3651990.000 *
SECONDARY_XY_ORIGIN 581420.582 3651793.843 *
NATION US *
STATE CA *
NW_QUAD_CORNER_XY 581740.157 3651626.898 *
NE_QUAD_CORNER_XY 587578.946 3651677.201 *
SE_QUAD_CORNER_XY 587640.650 3644748.098 *
SW_QUAD_CORNER_XY 581797.746 3644697.845 *
SECONDARY_NW_QUAD_XY 581741.949 3651435.768 *
SECONDARY_NE_QUAD_XY 587580.866 3651486.072 *
SECONDARY_SE_QUAD_XY 587642.568 3644557.183 *
SECONDARY_SW_QUAD_XY 581799.536 3644506.929 *
RMSE_XY 2.798 *
IMAGE_SOURCE "CIR FILM" *
SOURCE_IMAGE_ID "NAPP 9572 106" *
SOURCE_IMAGE_DATE 1996 09 27 *
SOURCE_IMAGE_ID "NAPP 9572 108" *
SOURCE_IMAGE_DATE 1996 09 27 *
SOURCE_DEM_DATE 1975 01 01 *
AGENCY "WESTERN MAPPING CENTER (WMC)" *
PRODUCER "ANALYTICAL SURVEYS INC." *
PRODUCTION_SYSTEM "ORBIT OR_RECTIFY V.5.2" *
STANDARD_VERSION 1996 12 *
METADATA_DATE 1998 03 12 *
DATA_FILE_SIZE 151581690 *
BYTE_COUNT 19890 * * * * * * * * * * * * * * * * * * * * * * * * * * * * * * * * * * * * * * * * * * * * * * * * * * * * * * * * * * * * * * * * * * * * * * * * * * * * * * * * * * * * * * * * * * * * * * * * * * * * * * * * * * * * * * * * * * * * * * * * * * * * * * * * * * * * * * * * * * * * * * * * * * * * * * * * * * * * * * * * * * * * * * * * * * * * * * * * * * * * * * * * * * * * * * * * * * * * * * * * * *
END_USGS_HEADER *
