BEGIN_USGS_DOQ_HEADER *
QUADRANGLE_NAME "ARROYO TAPIADO" *
QUADRANT NW *
NORTH_LATITUDE 33 00 00.000 *
WEST_LONGITUDE -116 15 00.000 *
SOUTH_LATITUDE 32 56 15.000 *
EAST_LONGITUDE -116 11 15.000 *
PRODUCTION_DATE 1998 03 09 *
RASTER_ORDER LEFT_RIGHT/TOP_BOTTOM *
BAND_ORGANIZATION BIP *
BAND_CONTENT RED *
BAND_CONTENT GREEN *
BAND_CONTENT BLUE *
BITS_PER_PIXEL 8 *
SAMPLES_AND_LINES 6600 7620 *
HORIZONTAL_DATUM NAD83 *
HORIZONTAL_COORDINATE_SYSTEM UTM *
COORDINATE_ZONE 11 *
HORIZONTAL_UNITS METERS *
HORIZONTAL_RESOLUTION 1.000 *
SECONDARY_HORIZONTAL_DATUM NAD27 *
XY_ORIGIN 569670.000 3651900.000 *
SECONDARY_XY_ORIGIN 569750.435 3651704.014 *
NATION US *
STATE CA *
NW_QUAD_CORNER_XY 570062.696 3651536.702 *
NE_QUAD_CORNER_XY 575901.408 3651580.065 *
SE_QUAD_CORNER_XY 575954.882 3644651.057 *
SW_QUAD_CORNER_XY 570112.056 3644607.737 *
SECONDARY_NW_QUAD_XY 570064.231 3651345.570 *
SECONDARY_NE_QUAD_XY 575903.072 3651388.934 *
SECONDARY_SE_QUAD_XY 575956.544 3644460.140 *
SECONDARY_SW_QUAD_XY 570113.590 3644416.819 *
RMSE_XY 2.017 *
IMAGE_SOURCE "CIR FILM" *
SOURCE_IMAGE_ID "NAPP 9571 58" *
SOURCE_IMAGE_DATE 1996 09 26 *
SOURCE_DEM_DATE 1957 01 01 *
AGENCY "WESTERN MAPPING CENTER (WMC)" *
PRODUCER "ANALYTICAL SURVEYS INC." *
PRODUCTION_SYSTEM "ORBIT OR_RECTIFY V.5.2" *
STANDARD_VERSION 1996 12 *
METADATA_DATE 1998 03 11 *
DATA_FILE_SIZE 150895800 *
BYTE_COUNT 19800 * * * * * * * * * * * * * * * * * * * * * * * * * * * * * * * * * * * * * * * * * * * * * * * * * * * * * * * * * * * * * * * * * * * * * * * * * * * * * * * * * * * * * * * * * * * * * * * * * * * * * * * * * * * * * * * * * * * * * * * * * * * * * * * * * * * * * * * * * * * * * * * * * * * * * * * * * * * * * * * * * * * * * * * * * * * * * * * * * * * * * * * * * * * * * * * * * * * * * * * * * * *
END_USGS_HEADER *
