BEGIN_USGS_DOQ_HEADER *
QUADRANGLE_NAME "ARROYO TAPIADO" *
QUADRANT SE *
NORTH_LATITUDE 32 56 15.000 *
WEST_LONGITUDE -116 11 15.000 *
SOUTH_LATITUDE 32 52 30.000 *
EAST_LONGITUDE -116 07 30.000 *
PRODUCTION_DATE 1998 03 09 *
RASTER_ORDER LEFT_RIGHT/TOP_BOTTOM *
BAND_ORGANIZATION BIP *
BAND_CONTENT RED *
BAND_CONTENT GREEN *
BAND_CONTENT BLUE *
BITS_PER_PIXEL 8 *
SAMPLES_AND_LINES 6630 7620 *
HORIZONTAL_DATUM NAD83 *
HORIZONTAL_COORDINATE_SYSTEM UTM *
COORDINATE_ZONE 11 *
HORIZONTAL_UNITS METERS *
HORIZONTAL_RESOLUTION 1.000 *
SECONDARY_HORIZONTAL_DATUM NAD27 *
XY_ORIGIN 575550.000 3645030.000 *
SECONDARY_XY_ORIGIN 575630.724 3644833.935 *
NATION US *
STATE CA *
NW_QUAD_CORNER_XY 575954.882 3644651.057 *
NE_QUAD_CORNER_XY 581797.746 3644697.845 *
SE_QUAD_CORNER_XY 581855.237 3637768.859 *
SW_QUAD_CORNER_XY 576008.266 3637722.118 *
SECONDARY_NW_QUAD_XY 575956.544 3644460.140 *
SECONDARY_NE_QUAD_XY 581799.536 3644506.929 *
SECONDARY_SE_QUAD_XY 581857.025 3637578.157 *
SECONDARY_SW_QUAD_XY 576009.926 3637531.415 *
RMSE_XY 2.719 *
IMAGE_SOURCE "CIR FILM" *
SOURCE_IMAGE_ID "NAPP 9566 16" *
SOURCE_IMAGE_DATE 1996 06 16 *
SOURCE_DEM_DATE 1957 01 01 *
AGENCY "WESTERN MAPPING CENTER (WMC)" *
PRODUCER "ANALYTICAL SURVEYS INC." *
PRODUCTION_SYSTEM "ORBIT OR_RECTIFY V.5.2" *
STANDARD_VERSION 1996 12 *
METADATA_DATE 1998 03 11 *
DATA_FILE_SIZE 151581690 *
BYTE_COUNT 19890 * * * * * * * * * * * * * * * * * * * * * * * * * * * * * * * * * * * * * * * * * * * * * * * * * * * * * * * * * * * * * * * * * * * * * * * * * * * * * * * * * * * * * * * * * * * * * * * * * * * * * * * * * * * * * * * * * * * * * * * * * * * * * * * * * * * * * * * * * * * * * * * * * * * * * * * * * * * * * * * * * * * * * * * * * * * * * * * * * * * * * * * * * * * * * * * * * * * * * * * * * * * *
END_USGS_HEADER *
