BEGIN_USGS_DOQ_HEADER *
QUADRANGLE_NAME "AGUA CALIENTE SPRINGS" *
QUADRANT SW *
NORTH_LATITUDE 32 56 15.000 *
WEST_LONGITUDE -116 22 30.000 *
SOUTH_LATITUDE 32 52 30.000 *
EAST_LONGITUDE -116 18 45.000 *
PRODUCTION_DATE 1998 03 06 *
RASTER_ORDER LEFT_RIGHT/TOP_BOTTOM *
BAND_ORGANIZATION BIP *
BAND_CONTENT RED *
BAND_CONTENT GREEN *
BAND_CONTENT BLUE *
BITS_PER_PIXEL 8 *
SAMPLES_AND_LINES 6600 7590 *
HORIZONTAL_DATUM NAD83 *
HORIZONTAL_COORDINATE_SYSTEM UTM *
COORDINATE_ZONE 11 *
HORIZONTAL_UNITS METERS *
HORIZONTAL_RESOLUTION 1.000 *
SECONDARY_HORIZONTAL_DATUM NAD27 *
XY_ORIGIN 558030.000 3644880.000 *
SECONDARY_XY_ORIGIN 558110.591 3644684.067 *
NATION US *
STATE CA *
NW_QUAD_CORNER_XY 558426.503 3644531.494 *
NE_QUAD_CORNER_XY 564269.264 3644567.882 *
SE_QUAD_CORNER_XY 564314.433 3637639.024 *
SW_QUAD_CORNER_XY 558467.566 3637602.672 *
SECONDARY_NW_QUAD_XY 558427.782 3644340.574 *
SECONDARY_NE_QUAD_XY 564270.670 3644376.963 *
SECONDARY_SE_QUAD_XY 564315.838 3637448.320 *
SECONDARY_SW_QUAD_XY 558468.843 3637411.966 *
RMSE_XY 4.109 *
IMAGE_SOURCE "CIR FILM" *
SOURCE_IMAGE_ID "NAPP 9571 160" *
SOURCE_IMAGE_DATE 1996 09 26 *
SOURCE_IMAGE_ID "NAPP 9572 65" *
SOURCE_IMAGE_DATE 1996 09 27 *
SOURCE_DEM_DATE 1955 01 01 *
AGENCY "WESTERN MAPPING CENTER (WMC)" *
PRODUCER "ANALYTICAL SURVEYS INC." *
PRODUCTION_SYSTEM "ORBIT OR_RECTIFY V.5.2" *
STANDARD_VERSION 1996 12 *
METADATA_DATE 1998 03 06 *
DATA_FILE_SIZE 150301800 *
BYTE_COUNT 19800 * * * * * * * * * * * * * * * * * * * * * * * * * * * * * * * * * * * * * * * * * * * * * * * * * * * * * * * * * * * * * * * * * * * * * * * * * * * * * * * * * * * * * * * * * * * * * * * * * * * * * * * * * * * * * * * * * * * * * * * * * * * * * * * * * * * * * * * * * * * * * * * * * * * * * * * * * * * * * * * * * * * * * * * * * * * * * * * * * * * * * * * * * * * * * * * * * * * * * * * * *
END_USGS_HEADER *
