BEGIN_USGS_DOQ_HEADER *
QUADRANGLE_NAME "MONUMENT PEAK" *
QUADRANT NE *
NORTH_LATITUDE 33 00 00.000 *
WEST_LONGITUDE -116 26 15.000 *
SOUTH_LATITUDE 32 56 15.000 *
EAST_LONGITUDE -116 22 30.000 *
PRODUCTION_DATE 1998 03 09 *
RASTER_ORDER LEFT_RIGHT/TOP_BOTTOM *
BAND_ORGANIZATION BIP *
BAND_CONTENT RED *
BAND_CONTENT GREEN *
BAND_CONTENT BLUE *
BITS_PER_PIXEL 8 *
SAMPLES_AND_LINES 6600 7590 *
HORIZONTAL_DATUM NAD83 *
HORIZONTAL_COORDINATE_SYSTEM UTM *
COORDINATE_ZONE 11 *
HORIZONTAL_UNITS METERS *
HORIZONTAL_RESOLUTION 1.000 *
SECONDARY_HORIZONTAL_DATUM NAD27 *
XY_ORIGIN 552150.000 3651780.000 *
SECONDARY_XY_ORIGIN 552230.475 3651584.066 *
NATION US *
STATE CA *
NW_QUAD_CORNER_XY 552546.752 3651427.430 *
NE_QUAD_CORNER_XY 558385.371 3651460.384 *
SE_QUAD_CORNER_XY 558426.503 3644531.494 *
SW_QUAD_CORNER_XY 552583.771 3644498.571 *
SECONDARY_NW_QUAD_XY 552547.904 3651236.296 *
SECONDARY_NE_QUAD_XY 558386.651 3651269.251 *
SECONDARY_SE_QUAD_XY 558427.782 3644340.574 *
SECONDARY_SW_QUAD_XY 552584.922 3644307.651 *
RMSE_XY 3.080 *
IMAGE_SOURCE "CIR FILM" *
SOURCE_IMAGE_ID "NAPP 9572 67" *
SOURCE_IMAGE_DATE 1996 09 27 *
SOURCE_DEM_DATE 1955 01 01 *
AGENCY "WESTERN MAPPING CENTER (WMC)" *
PRODUCER "ANALYTICAL SURVEYS INC." *
PRODUCTION_SYSTEM "ORBIT OR_RECTIFY V.5.2" *
STANDARD_VERSION 1996 12 *
METADATA_DATE 1998 03 10 *
DATA_FILE_SIZE 150301800 *
BYTE_COUNT 19800 * * * * * * * * * * * * * * * * * * * * * * * * * * * * * * * * * * * * * * * * * * * * * * * * * * * * * * * * * * * * * * * * * * * * * * * * * * * * * * * * * * * * * * * * * * * * * * * * * * * * * * * * * * * * * * * * * * * * * * * * * * * * * * * * * * * * * * * * * * * * * * * * * * * * * * * * * * * * * * * * * * * * * * * * * * * * * * * * * * * * * * * * * * * * * * * * * * * * * * * * * * *
END_USGS_HEADER *
