BEGIN_USGS_DOQ_HEADER *
QUADRANGLE_NAME "MONUMENT PEAK" *
QUADRANT SW *
NORTH_LATITUDE 32 56 15.000 *
WEST_LONGITUDE -116 30 00.000 *
SOUTH_LATITUDE 32 52 30.000 *
EAST_LONGITUDE -116 26 15.000 *
PRODUCTION_DATE 1998 03 09 *
RASTER_ORDER LEFT_RIGHT/TOP_BOTTOM *
BAND_ORGANIZATION BIP *
BAND_CONTENT RED *
BAND_CONTENT GREEN *
BAND_CONTENT BLUE *
BITS_PER_PIXEL 8 *
SAMPLES_AND_LINES 6570 7590 *
HORIZONTAL_DATUM NAD83 *
HORIZONTAL_COORDINATE_SYSTEM UTM *
COORDINATE_ZONE 11 *
HORIZONTAL_UNITS METERS *
HORIZONTAL_RESOLUTION 1.000 *
SECONDARY_HORIZONTAL_DATUM NAD27 *
XY_ORIGIN 546360.000 3644820.000 *
SECONDARY_XY_ORIGIN 546440.535 3644624.121 *
NATION US *
STATE CA *
NW_QUAD_CORNER_XY 546741.065 3644469.115 *
NE_QUAD_CORNER_XY 552583.771 3644498.571 *
SE_QUAD_CORNER_XY 552620.727 3637569.782 *
SW_QUAD_CORNER_XY 546773.914 3637540.354 *
SECONDARY_NW_QUAD_XY 546742.088 3644278.194 *
SECONDARY_NE_QUAD_XY 552584.922 3644307.651 *
SECONDARY_SE_QUAD_XY 552621.876 3637379.076 *
SECONDARY_SW_QUAD_XY 546774.936 3637349.647 *
RMSE_XY 5.839 *
IMAGE_SOURCE "CIR FILM" *
SOURCE_IMAGE_ID "NAPP 9571 169" *
SOURCE_IMAGE_DATE 1996 09 26 *
SOURCE_IMAGE_ID "NAPP 9572 65" *
SOURCE_IMAGE_DATE 1996 09 27 *
SOURCE_DEM_DATE 1955 01 01 *
AGENCY "WESTERN MAPPING CENTER (WMC)" *
PRODUCER "ANALYTICAL SURVEYS INC." *
PRODUCTION_SYSTEM "ORBIT OR_RECTIFY V.5.2" *
STANDARD_VERSION 1996 12 *
METADATA_DATE 1998 03 10 *
DATA_FILE_SIZE 149618610 *
BYTE_COUNT 19710 * * * * * * * * * * * * * * * * * * * * * * * * * * * * * * * * * * * * * * * * * * * * * * * * * * * * * * * * * * * * * * * * * * * * * * * * * * * * * * * * * * * * * * * * * * * * * * * * * * * * * * * * * * * * * * * * * * * * * * * * * * * * * * * * * * * * * * * * * * * * * * * * * * * * * * * * * * * * * * * * * * * * * * * * * * * * * * * * * * * * * * * * * * * * * * * * * * * * * * * *
END_USGS_HEADER *
