BEGIN_USGS_DOQ_HEADER *
QUADRANGLE_NAME "CUYAMACA PEAK" *
QUADRANT NW *
NORTH_LATITUDE 33 00 00.000 *
WEST_LONGITUDE -116 37 30.000 *
SOUTH_LATITUDE 32 56 15.000 *
EAST_LONGITUDE -116 33 45.000 *
PRODUCTION_DATE 1998 03 12 *
RASTER_ORDER LEFT_RIGHT/TOP_BOTTOM *
BAND_ORGANIZATION BIP *
BAND_CONTENT RED *
BAND_CONTENT GREEN *
BAND_CONTENT BLUE *
BITS_PER_PIXEL 8 *
SAMPLES_AND_LINES 6570 7590 *
HORIZONTAL_DATUM NAD83 *
HORIZONTAL_COORDINATE_SYSTEM UTM *
COORDINATE_ZONE 11 *
HORIZONTAL_UNITS METERS *
HORIZONTAL_RESOLUTION 1.000 *
SECONDARY_HORIZONTAL_DATUM NAD27 *
XY_ORIGIN 534630.000 3651690.000 *
SECONDARY_XY_ORIGIN 534710.511 3651493.965 *
NATION US *
STATE CA *
NW_QUAD_CORNER_XY 535031.040 3651349.381 *
NE_QUAD_CORNER_XY 540869.590 3651371.928 *
SE_QUAD_CORNER_XY 540898.382 3644443.124 *
SW_QUAD_CORNER_XY 535055.718 3644420.599 *
SECONDARY_NW_QUAD_XY 535031.808 3651158.245 *
SECONDARY_NE_QUAD_XY 540870.486 3651180.793 *
SECONDARY_SE_QUAD_XY 540899.277 3644252.202 *
SECONDARY_SW_QUAD_XY 535056.486 3644229.677 *
RMSE_XY 3.767 *
IMAGE_SOURCE "CIR FILM" *
SOURCE_IMAGE_ID "NAPP 9553 132" *
SOURCE_IMAGE_DATE 1996 06 04 *
SOURCE_IMAGE_ID "NAPP 9553 134" *
SOURCE_IMAGE_DATE 1996 06 04 *
SOURCE_IMAGE_ID "NAPP 9553 200" *
SOURCE_IMAGE_DATE 1996 06 04 *
SOURCE_DEM_DATE 1954 01 01 *
AGENCY "WESTERN MAPPING CENTER (WMC)" *
PRODUCER "ANALYTICAL SURVEYS INC." *
PRODUCTION_SYSTEM "ORBIT OR_RECTIFY V.5.2" *
STANDARD_VERSION 1996 12 *
METADATA_DATE 1998 03 12 *
DATA_FILE_SIZE 149618610 *
BYTE_COUNT 19710 * * * * * * * * * * * * * * * * * * * * * * * * * * * * * * * * * * * * * * * * * * * * * * * * * * * * * * * * * * * * * * * * * * * * * * * * * * * * * * * * * * * * * * * * * * * * * * * * * * * * * * * * * * * * * * * * * * * * * * * * * * * * * * * * * * * * * * * * * * * * * * * * * * * * * * * * * * * * * * * * * * * * * * * * * * * * * * * * * * * * * * * * * * * * * * * * * * * * * *
END_USGS_HEADER *
