BEGIN_USGS_DOQ_HEADER *
QUADRANGLE_NAME "CUYAMACA PEAK" *
QUADRANT SW *
NORTH_LATITUDE 32 56 15.000 *
WEST_LONGITUDE -116 37 30.000 *
SOUTH_LATITUDE 32 52 30.000 *
EAST_LONGITUDE -116 33 45.000 *
PRODUCTION_DATE 1998 03 12 *
RASTER_ORDER LEFT_RIGHT/TOP_BOTTOM *
BAND_ORGANIZATION BIP *
BAND_CONTENT RED *
BAND_CONTENT GREEN *
BAND_CONTENT BLUE *
BITS_PER_PIXEL 8 *
SAMPLES_AND_LINES 6570 7590 *
HORIZONTAL_DATUM NAD83 *
HORIZONTAL_COORDINATE_SYSTEM UTM *
COORDINATE_ZONE 11 *
HORIZONTAL_UNITS METERS *
HORIZONTAL_RESOLUTION 1.000 *
SECONDARY_HORIZONTAL_DATUM NAD27 *
XY_ORIGIN 534660.000 3644760.000 *
SECONDARY_XY_ORIGIN 534740.534 3644563.975 *
NATION US *
STATE CA *
NW_QUAD_CORNER_XY 535055.718 3644420.599 *
NE_QUAD_CORNER_XY 540898.382 3644443.124 *
SE_QUAD_CORNER_XY 540927.125 3637514.389 *
SW_QUAD_CORNER_XY 535080.355 3637491.886 *
SECONDARY_NW_QUAD_XY 535056.486 3644229.677 *
SECONDARY_NE_QUAD_XY 540899.277 3644252.202 *
SECONDARY_SE_QUAD_XY 540928.019 3637323.682 *
SECONDARY_SW_QUAD_XY 535081.121 3637301.178 *
RMSE_XY 4.424 *
IMAGE_SOURCE "CIR FILM" *
SOURCE_IMAGE_ID "NAPP 9553 130" *
SOURCE_IMAGE_DATE 1996 06 04 *
SOURCE_IMAGE_ID "NAPP 9553 132" *
SOURCE_IMAGE_DATE 1996 06 04 *
SOURCE_IMAGE_ID "NAPP 9553 202" *
SOURCE_IMAGE_DATE 1996 06 04 *
SOURCE_DEM_DATE 1954 01 01 *
AGENCY "WESTERN MAPPING CENTER (WMC)" *
PRODUCER "ANALYTICAL SURVEYS INC." *
PRODUCTION_SYSTEM "ORBIT OR_RECTIFY V.5.2" *
STANDARD_VERSION 1996 12 *
METADATA_DATE 1998 03 12 *
DATA_FILE_SIZE 149618610 *
BYTE_COUNT 19710 * * * * * * * * * * * * * * * * * * * * * * * * * * * * * * * * * * * * * * * * * * * * * * * * * * * * * * * * * * * * * * * * * * * * * * * * * * * * * * * * * * * * * * * * * * * * * * * * * * * * * * * * * * * * * * * * * * * * * * * * * * * * * * * * * * * * * * * * * * * * * * * * * * * * * * * * * * * * * * * * * * * * * * * * * * * * * * * * * * * * * * * * * * * * * * * * * * * * * *
END_USGS_HEADER *
