BEGIN_USGS_DOQ_HEADER *
QUADRANGLE_NAME "TULE SPRINGS" *
QUADRANT NW *
NORTH_LATITUDE 33 00 00.000 *
WEST_LONGITUDE -116 45 00.000 *
SOUTH_LATITUDE 32 56 15.000 *
EAST_LONGITUDE -116 41 15.000 *
PRODUCTION_DATE 1998 03 04 *
RASTER_ORDER LEFT_RIGHT/TOP_BOTTOM *
BAND_ORGANIZATION BIP *
BAND_CONTENT RED *
BAND_CONTENT GREEN *
BAND_CONTENT BLUE *
BITS_PER_PIXEL 8 *
SAMPLES_AND_LINES 6570 7590 *
HORIZONTAL_DATUM NAD83 *
HORIZONTAL_COORDINATE_SYSTEM UTM *
COORDINATE_ZONE 11 *
HORIZONTAL_UNITS METERS *
HORIZONTAL_RESOLUTION 1.000 *
SECONDARY_HORIZONTAL_DATUM NAD27 *
XY_ORIGIN 522960.000 3651660.000 *
SECONDARY_XY_ORIGIN 523040.519 3651463.858 *
NATION US *
STATE CA *
NW_QUAD_CORNER_XY 523353.989 3651314.694 *
NE_QUAD_CORNER_XY 529192.507 3651330.303 *
SE_QUAD_CORNER_XY 529213.072 3644401.539 *
SW_QUAD_CORNER_XY 523370.441 3644385.945 *
SECONDARY_NW_QUAD_XY 523354.501 3651123.557 *
SECONDARY_NE_QUAD_XY 529193.147 3651139.167 *
SECONDARY_SE_QUAD_XY 529213.712 3644210.617 *
SECONDARY_SW_QUAD_XY 523370.952 3644195.022 *
RMSE_XY 1.274 *
IMAGE_SOURCE "CIR FILM" *
SOURCE_IMAGE_ID "NAPP 9554 23" *
SOURCE_IMAGE_DATE 1996 06 04 *
SOURCE_IMAGE_ID "NAPP 9554 25" *
SOURCE_IMAGE_DATE 1996 06 04 *
SOURCE_DEM_DATE 1988 01 01 *
AGENCY "WESTERN MAPPING CENTER (WMC)" *
PRODUCER "ANALYTICAL SURVEYS INC." *
PRODUCTION_SYSTEM "ORBIT OR_RECTIFY V.5.2" *
STANDARD_VERSION 1996 12 *
METADATA_DATE 1998 04 13 *
DATA_FILE_SIZE 149618610 *
BYTE_COUNT 19710 * * * * * * * * * * * * * * * * * * * * * * * * * * * * * * * * * * * * * * * * * * * * * * * * * * * * * * * * * * * * * * * * * * * * * * * * * * * * * * * * * * * * * * * * * * * * * * * * * * * * * * * * * * * * * * * * * * * * * * * * * * * * * * * * * * * * * * * * * * * * * * * * * * * * * * * * * * * * * * * * * * * * * * * * * * * * * * * * * * * * * * * * * * * * * * * * * * * * * * * *
END_USGS_HEADER *
