BEGIN_USGS_DOQ_HEADER *
QUADRANGLE_NAME "EL CAJON MOUNTAIN" *
QUADRANT SE *
NORTH_LATITUDE 32 56 15.000 *
WEST_LONGITUDE -116 48 45.000 *
SOUTH_LATITUDE 32 52 30.000 *
EAST_LONGITUDE -116 45 00.000 *
PRODUCTION_DATE 1998 03 04 *
RASTER_ORDER LEFT_RIGHT/TOP_BOTTOM *
BAND_ORGANIZATION BIP *
BAND_CONTENT RED *
BAND_CONTENT GREEN *
BAND_CONTENT BLUE *
BITS_PER_PIXEL 8 *
SAMPLES_AND_LINES 6570 7560 *
HORIZONTAL_DATUM NAD83 *
HORIZONTAL_COORDINATE_SYSTEM UTM *
COORDINATE_ZONE 11 *
HORIZONTAL_UNITS METERS *
HORIZONTAL_RESOLUTION 1.000 *
SECONDARY_HORIZONTAL_DATUM NAD27 *
XY_ORIGIN 517140.000 3644700.000 *
SECONDARY_XY_ORIGIN 517220.571 3644503.874 *
NATION US *
STATE CA *
NW_QUAD_CORNER_XY 517527.821 3644373.817 *
NE_QUAD_CORNER_XY 523370.441 3644385.945 *
SE_QUAD_CORNER_XY 523386.865 3637457.266 *
SW_QUAD_CORNER_XY 517540.139 3637445.149 *
SECONDARY_NW_QUAD_XY 517528.204 3644182.893 *
SECONDARY_NE_QUAD_XY 523370.952 3644195.022 *
SECONDARY_SE_QUAD_XY 523387.376 3637266.558 *
SECONDARY_SW_QUAD_XY 517540.522 3637254.441 *
RMSE_XY 3.348 *
IMAGE_SOURCE "CIR FILM" *
SOURCE_IMAGE_ID "NAPP 9554 89" *
SOURCE_IMAGE_DATE 1996 06 04 *
SOURCE_IMAGE_ID "NAPP 9554 135" *
SOURCE_IMAGE_DATE 1996 06 04 *
SOURCE_IMAGE_ID "NAPP 9554 87" *
SOURCE_IMAGE_DATE 1996 06 04 *
SOURCE_IMAGE_ID "NAPP 9554 21" *
SOURCE_IMAGE_DATE 1996 06 04 *
SOURCE_DEM_DATE 1949 01 01 *
AGENCY "WESTERN MAPPING CENTER (WMC)" *
PRODUCER "ANALYTICAL SURVEYS INC." *
PRODUCTION_SYSTEM "ORBIT OR_RECTIFY V.5.2" *
STANDARD_VERSION 1996 12 *
METADATA_DATE 1998 03 05 *
DATA_FILE_SIZE 149027310 *
BYTE_COUNT 19710 * * * * * * * * * * * * * * * * * * * * * * * * * * * * * * * * * * * * * * * * * * * * * * * * * * * * * * * * * * * * * * * * * * * * * * * * * * * * * * * * * * * * * * * * * * * * * * * * * * * * * * * * * * * * * * * * * * * * * * * * * * * * * * * * * * * * * * * * * * * * * * * * * * * * * * * * * * * * * * * * * * * * * * * * * * * * * * * * * * * * * * * * * * * * * * * * * * * *
END_USGS_HEADER *
