BEGIN_USGS_DOQ_HEADER *
QUADRANGLE_NAME "EL CAJON MOUNTAIN" *
QUADRANT SW *
NORTH_LATITUDE 32 56 15.000 *
WEST_LONGITUDE -116 52 30.000 *
SOUTH_LATITUDE 32 52 30.000 *
EAST_LONGITUDE -116 48 45.000 *
PRODUCTION_DATE 1998 03 04 *
RASTER_ORDER LEFT_RIGHT/TOP_BOTTOM *
BAND_ORGANIZATION BIP *
BAND_CONTENT RED *
BAND_CONTENT GREEN *
BAND_CONTENT BLUE *
BITS_PER_PIXEL 8 *
SAMPLES_AND_LINES 6570 7590 *
HORIZONTAL_DATUM NAD83 *
HORIZONTAL_COORDINATE_SYSTEM UTM *
COORDINATE_ZONE 11 *
HORIZONTAL_UNITS METERS *
HORIZONTAL_RESOLUTION 1.000 *
SECONDARY_HORIZONTAL_DATUM NAD27 *
XY_ORIGIN 511290.000 3644700.000 *
SECONDARY_XY_ORIGIN 511370.617 3644503.895 *
NATION US *
STATE CA *
NW_QUAD_CORNER_XY 511685.209 3644365.153 *
NE_QUAD_CORNER_XY 517527.821 3644373.817 *
SE_QUAD_CORNER_XY 517540.139 3637445.149 *
SW_QUAD_CORNER_XY 511693.421 3637436.495 *
SECONDARY_NW_QUAD_XY 511685.465 3644174.230 *
SECONDARY_NE_QUAD_XY 517528.204 3644182.893 *
SECONDARY_SE_QUAD_XY 517540.522 3637254.441 *
SECONDARY_SW_QUAD_XY 511693.676 3637245.786 *
RMSE_XY 2.656 *
IMAGE_SOURCE "CIR FILM" *
SOURCE_IMAGE_ID "NAPP 9554 135" *
SOURCE_IMAGE_DATE 1996 06 04 *
SOURCE_IMAGE_ID "NAPP 9554 89" *
SOURCE_IMAGE_DATE 1996 06 04 *
SOURCE_IMAGE_ID "NAPP 9554 37" *
SOURCE_IMAGE_DATE 1996 06 04 *
SOURCE_DEM_DATE 1949 01 01 *
AGENCY "WESTERN MAPPING CENTER (WMC)" *
PRODUCER "ANALYTICAL SURVEYS INC." *
PRODUCTION_SYSTEM "ORBIT OR_RECTIFY V.5.2" *
STANDARD_VERSION 1996 12 *
METADATA_DATE 1998 03 05 *
DATA_FILE_SIZE 149618610 *
BYTE_COUNT 19710 * * * * * * * * * * * * * * * * * * * * * * * * * * * * * * * * * * * * * * * * * * * * * * * * * * * * * * * * * * * * * * * * * * * * * * * * * * * * * * * * * * * * * * * * * * * * * * * * * * * * * * * * * * * * * * * * * * * * * * * * * * * * * * * * * * * * * * * * * * * * * * * * * * * * * * * * * * * * * * * * * * * * * * * * * * * * * * * * * * * * * * * * * * * * * * * * * * * * * *
END_USGS_HEADER *
