BEGIN_USGS_DOQ_HEADER *
QUADRANGLE_NAME "SAN VICENTE RESERVOIR" *
QUADRANT NE *
NORTH_LATITUDE 33 00 00.000 *
WEST_LONGITUDE -116 56 15.000 *
SOUTH_LATITUDE 32 56 15.000 *
EAST_LONGITUDE -116 52 30.000 *
PRODUCTION_DATE 1998 03 04 *
RASTER_ORDER LEFT_RIGHT/TOP_BOTTOM *
BAND_ORGANIZATION BIP *
BAND_CONTENT RED *
BAND_CONTENT GREEN *
BAND_CONTENT BLUE *
BITS_PER_PIXEL 8 *
SAMPLES_AND_LINES 6570 7560 *
HORIZONTAL_DATUM NAD83 *
HORIZONTAL_COORDINATE_SYSTEM UTM *
COORDINATE_ZONE 11 *
HORIZONTAL_UNITS METERS *
HORIZONTAL_RESOLUTION 1.000 *
SECONDARY_HORIZONTAL_DATUM NAD27 *
XY_ORIGIN 505440.000 3651600.000 *
SECONDARY_XY_ORIGIN 505520.687 3651403.906 *
NATION US *
STATE CA *
NW_QUAD_CORNER_XY 505838.490 3651288.678 *
NE_QUAD_CORNER_XY 511676.983 3651293.881 *
SE_QUAD_CORNER_XY 511685.209 3644365.153 *
SW_QUAD_CORNER_XY 505842.603 3644359.955 *
SECONDARY_NW_QUAD_XY 505838.618 3651097.541 *
SECONDARY_NE_QUAD_XY 511677.239 3651102.744 *
SECONDARY_SE_QUAD_XY 511685.465 3644174.230 *
SECONDARY_SW_QUAD_XY 505842.731 3644169.032 *
RMSE_XY 2.260 *
IMAGE_SOURCE "CIR FILM" *
SOURCE_IMAGE_ID "NAPP 9554 206" *
SOURCE_IMAGE_DATE 1996 06 04 *
SOURCE_IMAGE_ID "NAPP 9554 205" *
SOURCE_IMAGE_DATE 1996 06 04 *
SOURCE_IMAGE_ID "NAPP 9555 24" *
SOURCE_IMAGE_DATE 1996 06 04 *
SOURCE_DEM_DATE 1953 01 01 *
AGENCY "WESTERN MAPPING CENTER (WMC)" *
PRODUCER "ANALYTICAL SURVEYS INC." *
PRODUCTION_SYSTEM "ORBIT OR_RECTIFY V.5.2" *
STANDARD_VERSION 1996 12 *
METADATA_DATE 1998 03 04 *
DATA_FILE_SIZE 149027310 *
BYTE_COUNT 19710 * * * * * * * * * * * * * * * * * * * * * * * * * * * * * * * * * * * * * * * * * * * * * * * * * * * * * * * * * * * * * * * * * * * * * * * * * * * * * * * * * * * * * * * * * * * * * * * * * * * * * * * * * * * * * * * * * * * * * * * * * * * * * * * * * * * * * * * * * * * * * * * * * * * * * * * * * * * * * * * * * * * * * * * * * * * * * * * * * * * * * * * * * * * * * * * * * * * * * *
END_USGS_HEADER *
