BEGIN_USGS_DOQ_HEADER *
QUADRANGLE_NAME "IMPERIAL BEACH OE W" 3.45 or 7.5-min. name*
QUADRANT SE quadrant indicator if cell size = 3.75-minutes*
WEST_LONGITUDE -117 11 15.000 signed deg min sec SDDD MM SS.SSS*
EAST_LONGITUDE -117 7 30.000 signed deg min sec SDDD MM SS.SSS*
NORTH_LATITUDE 32 33 45.000 signed deg min sec SDDD MM SS.SSS*
SOUTH_LATITUDE 32 30 0.000 signed deg min sec SDDD MM SS.SSS*
PRODUCTION_DATE 1997 7 30 yyyy mm dd*
RASTER_ORDER LEFT_RIGHT/TOP_BOTTOM video display order*
BAND_ORGANIZATION BIP single file or BSQ, or BIL or BIP*
BAND_CONTENT RED black&white or red green blue*
BAND_CONTENT GREEN black&white or red green blue*
BAND_CONTENT BLUE black&white or red green blue*
BITS_PER_PIXEL 8 radiometric resolution*
SAMPLES_AND_LINES 6564 7546 number of columns and rows*
HORIZONTAL_DATUM NAD83 primary horizontal datum*
HORIZONTAL_COORDINATE_SYSTEM UTM *
COORDINATE_ZONE 11 coordinate system zone number*
HORIZONTAL_UNITS METERS coordinate system units*
HORIZONTAL_RESOLUTION 1.00 pixel horiz. ground sample distance*
SECONDARY_HORIZONTAL_DATUM NAD27 secondary horizontal datum*
XY_ORIGIN 482004.000 3603110.000 coord. of upper left pixel pri. datum*
SECONDARY_XY_ORIGIN 482084.000 3602915.000 coord upper left pixel sec datum*
NATION US nation code*
STATE CA state fip code*
NW_QUAD_CORNER_XY 482398.580 3602802.850 XY coords. of pri. NW quad corner*
NE_QUAD_CORNER_XY 488265.730 3602794.240 XY coords. of pri. NE quad corner*
SE_QUAD_CORNER_XY 488257.600 3595866.000 XY coords. of pri. SE quad corner*
SW_QUAD_CORNER_XY 482386.390 3595874.600 XY coords. of pri. SW quad corner*
SECONDARY_NW_QUAD_XY 482398.200 3602613.230 XY coords. - sec. NW quad cor.*
SECONDARY_NE_QUAD_XY 488265.470 3602604.610 XY coords. - sec. NE quad cor.*
SECONDARY_SE_QUAD_XY 488257.350 3595676.590 XY coords. - sec. SE quad cor.*
SECONDARY_SW_QUAD_XY 482386.010 3595685.190 XY coords. - sec. SW quad cor.*
RMSE_XY 1.40 doq horiz. accuracy*
IMAGE_SOURCE "COLOR INFRA-RED FILM" b&w, cir, natural color, other*
SOURCE_IMAGE_ID "NAPP 10190 043" source image id*
SOURCE_IMAGE_DATE 1996 10 10 source image date as yyyy mm dd*
SOURCE_DEM_DATE 1997 7 30 source dem date yyyy mm dd*
AGENCY "WESTERN MAPPING CENTER (WMC)" oversight agency*
PRODUCER "ROCKY MOUNTAIN MAPPING CENTER (RMMC)" producer/contractor*
PRODUCTION_SYSTEM "DV2.6.3 10/9OV2.4 5/95" production system*
STANDARD_VERSION 1996 12 version of DOQ standard*
METADATA_DATE 1997 12 23 date created or changed, yyyy mm dd*
DATA_FILE_SIZE 148615524 data set size in bytes*
BYTE_COUNT 19692 header byte count* * * * * * * * * * * * * * * * * * * * * * * * * * * * * * * * * * * * * * * * * * * * * * * * * * * * * * * * * * * * * * * * * * * * * * * * * * * * * * * * * * * * * * * * * * * * * * * * * * * * * * * * * * * * * * * * * * * * * * * * * * * * * * * * * * * * * * * * * * * * * * * * * * * * * * * * * * * * * * * * * * * * * * * * * * * * * * * * * * * * * * * * * * * * * * * * * * * * * * * * * *
END_USGS_HEADER *
