BEGIN_USGS_DOQ_HEADER *
QUADRANGLE_NAME "POINT LOMA" 3.45 or 7.5-min. name*
QUADRANT NW quadrant indicator if cell size = 3.75-minutes*
WEST_LONGITUDE -117 15 0.000 signed deg min sec SDDD MM SS.SSS*
EAST_LONGITUDE -117 11 15.000 signed deg min sec SDDD MM SS.SSS*
NORTH_LATITUDE 32 45 0.000 signed deg min sec SDDD MM SS.SSS*
SOUTH_LATITUDE 32 41 15.000 signed deg min sec SDDD MM SS.SSS*
PRODUCTION_DATE 1998 9 2 yyyy mm dd*
RASTER_ORDER LEFT_RIGHT/TOP_BOTTOM video display order*
BAND_ORGANIZATION BIP single file or BSQ, or BIL or BIP*
BAND_CONTENT RED black&white or red green blue*
BAND_CONTENT GREEN black&white or red green blue*
BAND_CONTENT BLUE black&white or red green blue*
BITS_PER_PIXEL 8 radiometric resolution*
SAMPLES_AND_LINES 6552 7549 number of columns and rows*
HORIZONTAL_DATUM NAD83 primary horizontal datum*
HORIZONTAL_COORDINATE_SYSTEM UTM *
COORDINATE_ZONE 11 coordinate system zone number*
HORIZONTAL_UNITS METERS coordinate system units*
HORIZONTAL_RESOLUTION 1.00 pixel horiz. ground sample distance*
SECONDARY_HORIZONTAL_DATUM NAD27 secondary horizontal datum*
XY_ORIGIN 476182.000 3623907.000 coord. of upper left pixel pri. datum*
SECONDARY_XY_ORIGIN 476263.007 3623711.018 coord upper left pixel sec datum*
NATION US nation code*
STATE CA state fip code*
NW_QUAD_CORNER_XY 476580.370 3623600.116 XY coords. of pri. NW quad corner*
NE_QUAD_CORNER_XY 482435.288 3623588.023 XY coords. of pri. NE quad corner*
SE_QUAD_CORNER_XY 482423.033 3616659.563 XY coords. of pri. SE quad corner*
SW_QUAD_CORNER_XY 476564.030 3616671.644 XY coords. of pri. SW quad corner*
SECONDARY_NW_QUAD_XY 476579.860 3623409.838 XY coords. - sec. NW quad cor.*
SECONDARY_NE_QUAD_XY 482434.906 3623397.745 XY coords. - sec. NE quad cor.*
SECONDARY_SE_QUAD_XY 482422.651 3616469.502 XY coords. - sec. SE quad cor.*
SECONDARY_SW_QUAD_XY 476563.520 3616481.584 XY coords. - sec. SW quad cor.*
RMSE_XY 1.20 doq horiz. accuracy*
IMAGE_SOURCE "COLOR INFRA-RED FILM" b&w, cir, natural color, other*
SOURCE_IMAGE_ID "NAPP 0327 063" source image id*
SOURCE_IMAGE_DATE 1997 10 16 source image date as yyyy mm dd*
SOURCE_DEM_DATE 1966 0 0 source dem date yyyy mm dd*
AGENCY "WESTERN MAPPING CENTER (WMC)" oversight agency*
PRODUCER "ROCKY MOUNTAIN MAPPING CENTER (RMMC)" *
PRODUCTION_SYSTEM "DV2.6.3 10/9OV2.4 5/95" production system*
STANDARD_VERSION 1996 12 version of DOQ standard*
METADATA_DATE 1998 9 3 date created or changed, yyyy mm dd*
DATA_FILE_SIZE 148402800 data set size in bytes*
BYTE_COUNT 19656 header byte count* * * * * * * * * * * * * * * * * * * * * * * * * * * * * * * * * * * * * * * * * * * * * * * * * * * * * * * * * * * * * * * * * * * * * * * * * * * * * * * * * * * * * * * * * * * * * * * * * * * * * * * * * * * * * * * * * * * * * * * * * * * * * * * * * * * * * * * * * * * * * * * * * * * * * * * * * * * * * * * * * * * * * * * * * * * * * * * * * * * * * * * * * * * * * * * * * * * * * * * * *
END_USGS_HEADER *
